BEGIN:VCALENDAR
VERSION:2.0
PRODID:-//Sedlitzer Bergfreunde e.V. - ECPv6.15.20//NONSGML v1.0//EN
CALSCALE:GREGORIAN
METHOD:PUBLISH
X-ORIGINAL-URL:https://sedlitzer-bergfreunde.de
X-WR-CALDESC:Veranstaltungen für Sedlitzer Bergfreunde e.V.
REFRESH-INTERVAL;VALUE=DURATION:PT1H
X-Robots-Tag:noindex
X-PUBLISHED-TTL:PT1H
BEGIN:VTIMEZONE
TZID:Europe/Berlin
BEGIN:DAYLIGHT
TZOFFSETFROM:+0100
TZOFFSETTO:+0200
TZNAME:CEST
DTSTART:20250330T010000
END:DAYLIGHT
BEGIN:STANDARD
TZOFFSETFROM:+0200
TZOFFSETTO:+0100
TZNAME:CET
DTSTART:20251026T010000
END:STANDARD
BEGIN:DAYLIGHT
TZOFFSETFROM:+0100
TZOFFSETTO:+0200
TZNAME:CEST
DTSTART:20260329T010000
END:DAYLIGHT
BEGIN:STANDARD
TZOFFSETFROM:+0200
TZOFFSETTO:+0100
TZNAME:CET
DTSTART:20261025T010000
END:STANDARD
BEGIN:DAYLIGHT
TZOFFSETFROM:+0100
TZOFFSETTO:+0200
TZNAME:CEST
DTSTART:20270328T010000
END:DAYLIGHT
BEGIN:STANDARD
TZOFFSETFROM:+0200
TZOFFSETTO:+0100
TZNAME:CET
DTSTART:20271031T010000
END:STANDARD
BEGIN:DAYLIGHT
TZOFFSETFROM:+0100
TZOFFSETTO:+0200
TZNAME:CEST
DTSTART:20280326T010000
END:DAYLIGHT
BEGIN:STANDARD
TZOFFSETFROM:+0200
TZOFFSETTO:+0100
TZNAME:CET
DTSTART:20281029T010000
END:STANDARD
END:VTIMEZONE
BEGIN:VEVENT
DTSTART;TZID=Europe/Berlin:20261011T080000
DTEND;TZID=Europe/Berlin:20261011T170000
DTSTAMP:20260424T131240
CREATED:20260324T203352Z
LAST-MODIFIED:20260410T202449Z
UID:8408-1791705600-1791738000@sedlitzer-bergfreunde.de
SUMMARY:Die Bergfexe unterwegs: Bergtest 2026
DESCRIPTION:Mit den Bergfexen zum Bergtest. 7 Berge\, 5 Täler\, 3 Quellen. \nNähere Informationen folgen. Wanderleiterin der Bergfexe ist Anke Pätzold.
URL:https://sedlitzer-bergfreunde.de/event/die-bergfexe-unterwegs-bergtest-2026/
CATEGORIES:Wandergruppe "Bergfexe"
END:VEVENT
BEGIN:VEVENT
DTSTART;TZID=Europe/Berlin:20261115T080000
DTEND;TZID=Europe/Berlin:20261115T170000
DTSTAMP:20260424T131240
CREATED:20260324T203658Z
LAST-MODIFIED:20260410T202545Z
UID:8414-1794729600-1794762000@sedlitzer-bergfreunde.de
SUMMARY:Die Bergfexe unterwegs: Biberpfad und Teichlandschaft
DESCRIPTION:Mit den Bergfexen geht es zum Biberpfad und der Teichlandschaft. Nähere Informationen folgen. Wanderleiterin der Bergfexe ist Anke Pätzold.
URL:https://sedlitzer-bergfreunde.de/event/die-bergfexe-unterwegs/
END:VEVENT
BEGIN:VEVENT
DTSTART;TZID=Europe/Berlin:20261126T190000
DTEND;TZID=Europe/Berlin:20261126T213000
DTSTAMP:20260424T131240
CREATED:20260315T223113Z
LAST-MODIFIED:20260315T223519Z
UID:8330-1795719600-1795728600@sedlitzer-bergfreunde.de
SUMMARY:Sektionsabend: Die Dachzeltnomadin
DESCRIPTION:Vortrag von unserer Bergfreundin Anke.  Alle Mitglieder\, Freunde und Bekannte sind herzlich willkommen. Nähere Informationen folgen 🙂
URL:https://sedlitzer-bergfreunde.de/event/sektionsabend-die-dachzeltnomadin/
CATEGORIES:Sektionsabend
ATTACH;FMTTYPE=image/jpeg:https://sedlitzer-bergfreunde.de/wp-content/uploads/2024/12/Kopie-von-Einladung-Mitgliederversammlung-Praesentation.zip-3.jpeg
END:VEVENT
BEGIN:VEVENT
DTSTART;VALUE=DATE:20261230
DTEND;VALUE=DATE:20261231
DTSTAMP:20260424T131241
CREATED:20260324T204230Z
LAST-MODIFIED:20260324T204500Z
UID:8418-1798588800-1798675199@sedlitzer-bergfreunde.de
SUMMARY:Die Bergfexe unterwegs: Dubringer Moor und Krabat Magica
DESCRIPTION:Wanderung der Bergfexe in das Dubringer Moor und Krabat Magica (ab Schwarzkolm). Nähere Informationen folgen.
URL:https://sedlitzer-bergfreunde.de/event/die-bergfexe-unterwegs-dubringer-moor-und-krabat-magica/
CATEGORIES:Wandergruppe "Bergfexe"
END:VEVENT
BEGIN:VEVENT
DTSTART;TZID=Europe/Berlin:20270115T030000
DTEND;TZID=Europe/Berlin:20270119T160000
DTSTAMP:20260424T131241
CREATED:20260120T192740Z
LAST-MODIFIED:20260308T180815Z
UID:7892-1799982000-1800374400@sedlitzer-bergfreunde.de
SUMMARY:Capra Ibex Ski-Alpin Ausbildungs-Ausfahrt (01/2027)
DESCRIPTION:Capra Ibex Ski-Alpin Ausbildungs-Ausfahrt \nUm was geht es\, Was haben wir vor? \n\nSkitechnik-Kurs\,\nTiefschneefahren\,\nLawinenkunde\,\nSicher & Verantwortungsvoll Skifahren\,\nkleiner Ski-Wettkampf\n\nWann? & Wo? \n\n15.01.2027 bis 19.01.2027\nStubaier Gletscher Skiegebiet (Österreich)\,\nÜbernachtung in der Zollhütte mitten im Skigebiet\,\nHP in Dresdner Hütte\n\n  \nÖsterreichs größtes Gletscherskigebiet – Stubaier Gletscher \nWinter-Skisaison am Gletscher\nSchneesicherheit von Oktober bis Mai – das ist Winter am Stubaier Gletscher. \nDas Bergpanorama\, die breiten Pisten\, die Familienfreundlichkeit\, das vielfältige Pistenangebot – eine unvergessliche Skisaison ist garantiert. \nPistenvergnügen für Groß & Klein\nDas erwartet dich bei deinem Besuch in Österreichs größtem Gletscher Skigebiet: \n️Skifahren auf über 3.000 Meter Höhe mit Schneegarantie \n️100% Skispaß auf 33 leichten bis anspruchsvollen Abfahrten \n️26 moderne Seilbahn- und Liftanlagen & Skidepot \n️zahlreiche Freeride-Möglichkeiten \n️Snowpark Stubai Zoo \nOrganisation durch Philipp Liebscher (Ausbildungsreferent Sedlitzer Bergfreunde)  \n  \nBericht vom letzten Jahr: \nSki-Alpin Ausbildungsausfahrt (Stubaier Gletscher – Österreich) – Sedlitzer Bergfreunde e.V. \n  \n-> Diese Veranstaltung ist Stand 24.01.2026 komplett ausgebucht. Wartelistenplätze weiterhin möglich.
URL:https://sedlitzer-bergfreunde.de/event/capra-ibex-ski-alpin-ausbildungs-ausfahrt-01-2027/
LOCATION:Stubaier Gletscher Skigebiet Österreich\, Austria
CATEGORIES:Capra Ibex
ATTACH;FMTTYPE=image/jpeg:https://sedlitzer-bergfreunde.de/wp-content/uploads/2026/01/20260118_Capra-Ibex-Skilager_Stubaier-Gletscher_Zollhuette_Foto-Philipp-Liebscher-1-scaled.jpg
ORGANIZER;CN="Philipp Liebscher":MAILTO:capra.ibex@sedlitzer-bergfreunde.de
END:VEVENT
END:VCALENDAR