BEGIN:VCALENDAR
VERSION:2.0
PRODID:-//Sedlitzer Bergfreunde e.V. - ECPv6.15.20//NONSGML v1.0//EN
CALSCALE:GREGORIAN
METHOD:PUBLISH
X-WR-CALNAME:Sedlitzer Bergfreunde e.V.
X-ORIGINAL-URL:https://sedlitzer-bergfreunde.de
X-WR-CALDESC:Veranstaltungen für Sedlitzer Bergfreunde e.V.
REFRESH-INTERVAL;VALUE=DURATION:PT1H
X-Robots-Tag:noindex
X-PUBLISHED-TTL:PT1H
BEGIN:VTIMEZONE
TZID:Europe/Berlin
BEGIN:DAYLIGHT
TZOFFSETFROM:+0100
TZOFFSETTO:+0200
TZNAME:CEST
DTSTART:20240331T010000
END:DAYLIGHT
BEGIN:STANDARD
TZOFFSETFROM:+0200
TZOFFSETTO:+0100
TZNAME:CET
DTSTART:20241027T010000
END:STANDARD
BEGIN:DAYLIGHT
TZOFFSETFROM:+0100
TZOFFSETTO:+0200
TZNAME:CEST
DTSTART:20250330T010000
END:DAYLIGHT
BEGIN:STANDARD
TZOFFSETFROM:+0200
TZOFFSETTO:+0100
TZNAME:CET
DTSTART:20251026T010000
END:STANDARD
BEGIN:DAYLIGHT
TZOFFSETFROM:+0100
TZOFFSETTO:+0200
TZNAME:CEST
DTSTART:20260329T010000
END:DAYLIGHT
BEGIN:STANDARD
TZOFFSETFROM:+0200
TZOFFSETTO:+0100
TZNAME:CET
DTSTART:20261025T010000
END:STANDARD
END:VTIMEZONE
BEGIN:VEVENT
DTSTART;TZID=Europe/Berlin:20250708T180000
DTEND;TZID=Europe/Berlin:20250708T210000
DTSTAMP:20260423T030018
CREATED:20250701T161837Z
LAST-MODIFIED:20250701T161837Z
UID:5811-1751997600-1752008400@sedlitzer-bergfreunde.de
SUMMARY:Capra Ibex "Kader Alpinklettern Dolomiten 2026" Auftakt-Treffen
DESCRIPTION:Beim Auftakt-Treffen stellen wir Euch unseren Plan für das nächste Jahr im “Capra Ibex – Alpinkletter-Kader” vor. \nWas haben wir geplant? Was erwarten wir von Euch? War Eure Bewerbung erfolgreich? \nWir zeigen Euch Bilder der geplanten Region\, in der unsere Abschlusstour stattfindet. \n1 Jahr intensive Vorbereitung auf die 1-wöchige Alpinklettertour am Falzaregopass in den Dolomiten 2026.
URL:https://sedlitzer-bergfreunde.de/event/capra-ibex-kader-alpinklettern-dolomiten-2026-auftakt-treffen/
LOCATION:Sportplatz-Gaststätte Sedlitz
CATEGORIES:Capra Ibex
ATTACH;FMTTYPE=image/png:https://sedlitzer-bergfreunde.de/wp-content/uploads/2025/07/Capra-Ibex-Kader-Alpinklettern-Dolomiten-2026-Foto-Philipp-Liebscher-AI-scaled.png
ORGANIZER;CN="Philipp Liebscher":MAILTO:capra.ibex@sedlitzer-bergfreunde.de
END:VEVENT
END:VCALENDAR