BEGIN:VCALENDAR
VERSION:2.0
PRODID:-//Sedlitzer Bergfreunde e.V. - ECPv6.15.20//NONSGML v1.0//EN
CALSCALE:GREGORIAN
METHOD:PUBLISH
X-WR-CALNAME:Sedlitzer Bergfreunde e.V.
X-ORIGINAL-URL:https://sedlitzer-bergfreunde.de
X-WR-CALDESC:Veranstaltungen für Sedlitzer Bergfreunde e.V.
REFRESH-INTERVAL;VALUE=DURATION:PT1H
X-Robots-Tag:noindex
X-PUBLISHED-TTL:PT1H
BEGIN:VTIMEZONE
TZID:Europe/Berlin
BEGIN:DAYLIGHT
TZOFFSETFROM:+0100
TZOFFSETTO:+0200
TZNAME:CEST
DTSTART:20240331T010000
END:DAYLIGHT
BEGIN:STANDARD
TZOFFSETFROM:+0200
TZOFFSETTO:+0100
TZNAME:CET
DTSTART:20241027T010000
END:STANDARD
BEGIN:DAYLIGHT
TZOFFSETFROM:+0100
TZOFFSETTO:+0200
TZNAME:CEST
DTSTART:20250330T010000
END:DAYLIGHT
BEGIN:STANDARD
TZOFFSETFROM:+0200
TZOFFSETTO:+0100
TZNAME:CET
DTSTART:20251026T010000
END:STANDARD
BEGIN:DAYLIGHT
TZOFFSETFROM:+0100
TZOFFSETTO:+0200
TZNAME:CEST
DTSTART:20260329T010000
END:DAYLIGHT
BEGIN:STANDARD
TZOFFSETFROM:+0200
TZOFFSETTO:+0100
TZNAME:CET
DTSTART:20261025T010000
END:STANDARD
BEGIN:DAYLIGHT
TZOFFSETFROM:+0100
TZOFFSETTO:+0200
TZNAME:CEST
DTSTART:20270328T010000
END:DAYLIGHT
BEGIN:STANDARD
TZOFFSETFROM:+0200
TZOFFSETTO:+0100
TZNAME:CET
DTSTART:20271031T010000
END:STANDARD
END:VTIMEZONE
BEGIN:VEVENT
DTSTART;TZID=Europe/Berlin:20251206T150000
DTEND;TZID=Europe/Berlin:20251206T190000
DTSTAMP:20260421T222935
CREATED:20251026T200412Z
LAST-MODIFIED:20251026T202345Z
UID:6891-1765033200-1765047600@sedlitzer-bergfreunde.de
SUMMARY:3.Alpinkader-Training von Capra Ibex (Thema: Topos lesen & verstehen)
DESCRIPTION:  \nDas 3.Kadertraining findet am Samstag\, den 06.12.2025 ab 15Uhr in Sedlitz statt. \nNachdem wir uns beim ersten Kadertraining mit verschiedensten Standplätzen beschäftigt hatten\, ging es beim zweiten um “Mobile Sicherungsmittel” jeglicher Art. \nBeim dritten Kadertraining behandeln wir das Thema: Topos lesen & verstehen. \nDas diesmal eher theoretische Thema findet am Sedlitzer Turm und in der Sportplatzgaststätte statt. \n\nTeilnahme ist nur möglich für Mitglieder des “Capra Ibex Kader Alpinklettern Dolomiten 2026”!
URL:https://sedlitzer-bergfreunde.de/event/2-alpinkader-training-von-capra-ibex-thema-mobile-sicherungsmittel-2/
LOCATION:Sportplatz-Gaststätte Sedlitz
CATEGORIES:Capra Ibex
ATTACH;FMTTYPE=image/png:https://sedlitzer-bergfreunde.de/wp-content/uploads/2025/10/Capra-Ibex_Topos-lesen-und-verstehen.png
ORGANIZER;CN="Capra Ibex - Bergsportgruppe Alpine Zukunft":MAILTO:capra.ibex@sedlitzer-bergfreunde.de
END:VEVENT
BEGIN:VEVENT
DTSTART;TZID=Europe/Berlin:20251211T100000
DTEND;TZID=Europe/Berlin:20251211T163000
DTSTAMP:20260421T222935
CREATED:20251027T213740Z
LAST-MODIFIED:20251027T213740Z
UID:6908-1765447200-1765470600@sedlitzer-bergfreunde.de
SUMMARY:Weihnachtsbaumwanderung Augustusburg der WG 13 mit Hund
DESCRIPTION:Am 11.12.2025 führt und die Jahresabschlusswanderung der Wandergruppe 13 mit Hund bei hoffentlich weihnachtlichem Wetter ins schöne Zschopautal zwischen Erdmannsdorf und Hennersdorf sowie auf die Augustusburg. \nHöhepunkte werden u.a. der Weihnachtsbaumpfad bei Kunnersdorf\, der Kunnerstein\, die Augustusburg und die Fahrt mit der Standseilbahn sein. Die eine oder andere interessante Information dazu erfahrt ihr unterwegs vom Monsigniore. \nBei einer Gesamtlänge von ca. 8\,5 km werden wir einen Höhenunterschied von 250 Metern überwinden\, Gesamtdauer der Wanderung ca. 2\,5 bis 3 h. \nDie Verpflegung erfolgt aus dem Rucksack\, ggf. ist eine (Imbiss-) Einkehr auf der Augustusburg möglich. Für die Standseilbahn ist ein Beförderungsendgeld von 4 € einzuplanen. \nAbfahrt 10:00 Uhr Fa. Kehl\, Laugkfeld 22\, Senftenberg. Anmeldung und Mitfahrgelegenheit zu erfragen bei Diana Petermann 01575 15 67 698. Bei Eigenanreise Treffpunkt Bahnhof Erdmannsdorf gegen 11:45 – 12:00  Uhr. \nWetterfeste Kleidung und Wanderschuhe mit Profilsohle empfehlenswert!
URL:https://sedlitzer-bergfreunde.de/event/weihnachtsbaumwanderung-augustusburg-der-wg-13-mit-hund/
LOCATION:Firma Kehl\, Laugkfeld\, Laugkfeld\, Senftenberg
CATEGORIES:Wandergruppe WG 13.6. mit Hund!
ATTACH;FMTTYPE=image/jpeg:https://sedlitzer-bergfreunde.de/wp-content/uploads/2025/10/Weihnachtsbaumwanderung1-scaled.jpg
END:VEVENT
BEGIN:VEVENT
DTSTART;TZID=Europe/Berlin:20251211T173000
DTEND;TZID=Europe/Berlin:20251211T193000
DTSTAMP:20260421T222935
CREATED:20251206T204528Z
LAST-MODIFIED:20251206T205558Z
UID:7415-1765474200-1765481400@sedlitzer-bergfreunde.de
SUMMARY:Kinder sicher Sichern (Kurs für Eltern)
DESCRIPTION:Am Donnerstag\, den 11.12.2025 findet ein Sicherungskurs für Eltern mit Kids statt. \nWenn man mit Kindern klettert und sie sichert gibt’s ein paar Sachen zu beachten. \nGewichtsunterschied\, weiches Sichern\, etc. \nIn den 2 Stunden von 17:30 Uhr bis 19:30 Uhr lernt ihr alles\, was ihr braucht\, um eure Kids sicher zu Sichern. \nWeitere Infos findet Ihr in der App Spond bei Veranstaltungen Sedlitzer Bergfreunde > Ausbildung\, Kurse. \nDieser Kurs wird von Philipp Liebscher durchgeführt (Trainer C Sportklettern Breitensport Indoor).
URL:https://sedlitzer-bergfreunde.de/event/kinder-sicher-sichern-kurs-fuer-eltern/
LOCATION:Vital – Der Gesundheitsclub\, Rudolf-Breitscheid-Straße 2a\, Senftenberg\, Brandenburg\, 01968\, Germany
CATEGORIES:Capra Ibex,Kinder & Jugend,Verein
ATTACH;FMTTYPE=image/jpeg:https://sedlitzer-bergfreunde.de/wp-content/uploads/2025/12/20251201_Kinder-sicher-Sichern_Foto-Philipp-Liebscher-scaled.jpg
ORGANIZER;CN="Philipp Liebscher":MAILTO:capra.ibex@sedlitzer-bergfreunde.de
END:VEVENT
BEGIN:VEVENT
DTSTART;TZID=Europe/Berlin:20251212T150000
DTEND;TZID=Europe/Berlin:20251212T220000
DTSTAMP:20260421T222935
CREATED:20251206T203431Z
LAST-MODIFIED:20251206T203431Z
UID:7412-1765551600-1765576800@sedlitzer-bergfreunde.de
SUMMARY:Boulderausflug nach Cottbus
DESCRIPTION:Eine Veranstaltung von Capra Ibex – Bergsportgruppe Alpine Zukunft. \nWeitere Informationen findet Ihr in der Mannschaftssport-App Spond!
URL:https://sedlitzer-bergfreunde.de/event/boulderausflug-nach-cottbus/
LOCATION:Klunker Boulderhalle Cottbus\, Parzellenstr. 10\, Cottbus\, Brandenburg\, 03046\, Germany
CATEGORIES:Capra Ibex
ATTACH;FMTTYPE=image/jpeg:https://sedlitzer-bergfreunde.de/wp-content/uploads/2025/11/20251114_Capra-Ibex-Weihnachtsfeier-2025-Klunker-Boulderhalle-Cottbus_Foto-Philipp-Liebscher-2-scaled.jpg
ORGANIZER;CN="Capra Ibex - Bergsportgruppe Alpine Zukunft":MAILTO:capra.ibex@sedlitzer-bergfreunde.de
END:VEVENT
BEGIN:VEVENT
DTSTART;VALUE=DATE:20251221
DTEND;VALUE=DATE:20251222
DTSTAMP:20260421T222935
CREATED:20251215T135246Z
LAST-MODIFIED:20251215T135414Z
UID:7535-1766275200-1766361599@sedlitzer-bergfreunde.de
SUMMARY:Boulderausflug am 4. Advent
DESCRIPTION:Eine Veranstaltung von Capra Ibex – Bergsportgruppe Alpine Zukunft. \nWeitere Informationen findet Ihr in der Mannschaftssport-App Spond! \nBerichte von vergangenen Veranstaltungen im Klunker: \nCapra Ibex zum Bouldern im Klunker Cottbus – Sedlitzer Bergfreunde e.V. \nCapra Ibex Weihnachtsfeier 2025 im Klunker Cottbus 🎅🐐 – Sedlitzer Bergfreunde e.V.
URL:https://sedlitzer-bergfreunde.de/event/boulderausflug-am-4-advent/
LOCATION:Klunker Boulderhalle Cottbus\, Parzellenstr. 10\, Cottbus\, Brandenburg\, 03046\, Germany
CATEGORIES:Capra Ibex
ATTACH;FMTTYPE=image/jpeg:https://sedlitzer-bergfreunde.de/wp-content/uploads/2025/11/20251114_Capra-Ibex-Weihnachtsfeier-2025-Klunker-Boulderhalle-Cottbus_Foto-Philipp-Liebscher-2-scaled.jpg
ORGANIZER;CN="Capra Ibex - Bergsportgruppe Alpine Zukunft":MAILTO:capra.ibex@sedlitzer-bergfreunde.de
END:VEVENT
BEGIN:VEVENT
DTSTART;TZID=Europe/Berlin:20251221T090000
DTEND;TZID=Europe/Berlin:20251221T170000
DTSTAMP:20260421T222935
CREATED:20251201T202352Z
LAST-MODIFIED:20251201T202412Z
UID:7393-1766307600-1766336400@sedlitzer-bergfreunde.de
SUMMARY:Adventswanderung der UHU'S in die Königshainer Berge
DESCRIPTION:Unsere Wandergruppe Die UHU’s begeben sich auch in diesem Jahr auf eine Adventswanderung. Ziel sind die Königshainer Berge. Wanderleiter ist Dieter Pohmer.
URL:https://sedlitzer-bergfreunde.de/event/adventswanderung-der-uhus-in-die-koenigshainer-berge/
CATEGORIES:Wandergruppe "Die UHU's"
ATTACH;FMTTYPE=image/png:https://sedlitzer-bergfreunde.de/wp-content/uploads/2025/01/20250117_214206000_iOS.png
END:VEVENT
BEGIN:VEVENT
DTSTART;TZID=Europe/Berlin:20251228T100000
DTEND;TZID=Europe/Berlin:20251228T150000
DTSTAMP:20260421T222935
CREATED:20251010T161742Z
LAST-MODIFIED:20251217T195758Z
UID:6643-1766916000-1766934000@sedlitzer-bergfreunde.de
SUMMARY:Capra Ibex bei "build a rock" in Cottbus
DESCRIPTION:Liebe Steingeiße\, Steinböcke\, Vormünder & Freunde von Capra Ibex\, \nWir fahren gemeinsam zu “build a rock” in Cottbus… Jens Brand hat unsere Gruppe herzlich zu sich eingeladen. Wir bekommen eine private Führung durch seine Felsenbauer-Firma & können das Abenteuerland besichtigen. \nZusätzlich wird uns folgendes an diesem Tag geboten (je nach Wetter):  \n– eine Höhlenbesichtigung mit Schatzsuche \n– Felsklettern (Toprope\, Vorstieg\, Abseilen) \n– Lagerfeuer zum Aufwärmen \n– Wackelplattenparcour \n– Erlebnispädagogische Spiele \n  \nWann?  \nSonntag\, 28.12.2025 \n10Uhr bis 15Uhr \n  \nWas benötigen wir?  \n– Klettermaterial (Indoor / Outdoor) \n– Verpflegung & ausreichend Getränke \n  \nBitte bei Interesse zeitnah bei Spond anmelden. Die Teilnehmerzahl ist auf 15 Personen begrenzt! \nLG Euer Philipp \n  \nhttps://buildarock.de/ \nhttps://www.fritzis-abenteuerland.de/
URL:https://sedlitzer-bergfreunde.de/event/capra-ibex-bei-build-a-rock-in-cottbus/
LOCATION:build a rock GmbH & FRITZIS Abenteuerland e.V.\, Drewitzer Str. 11\, Cottbus\, Brandenburg\, 03042\, Germany
CATEGORIES:Capra Ibex
ATTACH;FMTTYPE=image/jpeg:https://sedlitzer-bergfreunde.de/wp-content/uploads/2025/10/Capra-Ibex-bei-build-a-rock-in-Cottbus-scaled.jpg
ORGANIZER;CN="Philipp Liebscher":MAILTO:capra.ibex@sedlitzer-bergfreunde.de
END:VEVENT
BEGIN:VEVENT
DTSTART;TZID=Europe/Berlin:20251231T120000
DTEND;TZID=Europe/Berlin:20260101T120000
DTSTAMP:20260421T222935
CREATED:20251010T160839Z
LAST-MODIFIED:20251010T160947Z
UID:6633-1767182400-1767268800@sedlitzer-bergfreunde.de
SUMMARY:Capra Ibex Silvesterparty 2025/2026: Der Gipfel des Wahnsinns! 🥳🐐
DESCRIPTION:Interne Capra Ibex Veranstaltung
URL:https://sedlitzer-bergfreunde.de/event/capra-ibex-silvesterparty-2025-2026-der-gipfel-des-wahnsinns-%f0%9f%a5%b3%f0%9f%90%90/
CATEGORIES:Capra Ibex
ATTACH;FMTTYPE=image/png:https://sedlitzer-bergfreunde.de/wp-content/uploads/2025/10/Capra-Silvesterparty-2025-26.png
ORGANIZER;CN="Philipp Liebscher":MAILTO:capra.ibex@sedlitzer-bergfreunde.de
END:VEVENT
END:VCALENDAR