BEGIN:VCALENDAR
VERSION:2.0
PRODID:-//Sedlitzer Bergfreunde e.V. - ECPv6.15.20//NONSGML v1.0//EN
CALSCALE:GREGORIAN
METHOD:PUBLISH
X-ORIGINAL-URL:https://sedlitzer-bergfreunde.de
X-WR-CALDESC:Veranstaltungen für Sedlitzer Bergfreunde e.V.
REFRESH-INTERVAL;VALUE=DURATION:PT1H
X-Robots-Tag:noindex
X-PUBLISHED-TTL:PT1H
BEGIN:VTIMEZONE
TZID:Europe/Berlin
BEGIN:DAYLIGHT
TZOFFSETFROM:+0100
TZOFFSETTO:+0200
TZNAME:CEST
DTSTART:20240331T010000
END:DAYLIGHT
BEGIN:STANDARD
TZOFFSETFROM:+0200
TZOFFSETTO:+0100
TZNAME:CET
DTSTART:20241027T010000
END:STANDARD
BEGIN:DAYLIGHT
TZOFFSETFROM:+0100
TZOFFSETTO:+0200
TZNAME:CEST
DTSTART:20250330T010000
END:DAYLIGHT
BEGIN:STANDARD
TZOFFSETFROM:+0200
TZOFFSETTO:+0100
TZNAME:CET
DTSTART:20251026T010000
END:STANDARD
BEGIN:DAYLIGHT
TZOFFSETFROM:+0100
TZOFFSETTO:+0200
TZNAME:CEST
DTSTART:20260329T010000
END:DAYLIGHT
BEGIN:STANDARD
TZOFFSETFROM:+0200
TZOFFSETTO:+0100
TZNAME:CET
DTSTART:20261025T010000
END:STANDARD
END:VTIMEZONE
BEGIN:VEVENT
DTSTART;TZID=Europe/Berlin:20250927T030000
DTEND;TZID=Europe/Berlin:20251004T230000
DTSTAMP:20260421T191555
CREATED:20250530T220145Z
LAST-MODIFIED:20250530T220248Z
UID:5550-1758942000-1759618800@sedlitzer-bergfreunde.de
SUMMARY:Capra Ibex Expedition Kalymnos 2025 (Griechenland)
DESCRIPTION:Steile Wände\, klares Wasser\, lockeres Leben – wer zum Klettern nach Kalymnos fährt\, kann aufsteigen und abtauchen. Kalymnos ist eine kleine Insel in der griechischen Ägäis und liegt nördlich der bekannten Ferieninsel Kos unweit der Türkei. Im Gegensatz zur recht vegetationsreichen Insel Kos ist Kalymnos ein karges und felsiges Eiland. Schroffe Felsklippen\, Höhlen\, steile Wände und kleinen Berge prägen die Landschaft. Genau deshalb ist Kalymnos vor rund 20 Jahren zum Klettern entdeckt worden und hat sich in den letzten zwei Dekaden zum wahren Kletterparadies entwickelt. Kaum anderswo auf der Erde gibt es auf so kleinem Raum eine so hohe Dichte an einmaligen Klettergebieten. \nKeine Anmeldung mehr möglich – Ausgebucht! \n \n 
URL:https://sedlitzer-bergfreunde.de/event/capra-ibex-expedition-kalymnos-2025-griechenland/
LOCATION:Mirties\, Kalymnos\, Mirties\, Kalymnos\, Greece
CATEGORIES:Capra Ibex
ATTACH;FMTTYPE=image/jpeg:https://sedlitzer-bergfreunde.de/wp-content/uploads/2024/04/CapraIbex-e1731446307122.jpg
ORGANIZER;CN="Philipp Liebscher":MAILTO:capra.ibex@sedlitzer-bergfreunde.de
END:VEVENT
BEGIN:VEVENT
DTSTART;VALUE=DATE:20251001
DTEND;VALUE=DATE:20251002
DTSTAMP:20260421T191555
CREATED:20250728T123604Z
LAST-MODIFIED:20250728T123604Z
UID:6040-1759276800-1759363199@sedlitzer-bergfreunde.de
SUMMARY:Wanderung im Bielatal
DESCRIPTION:Wanderung der Wandergruppe Triebel im Bielatal. Bei Interesse gern melden. Wanderleiterin ist Doris Bienek.
URL:https://sedlitzer-bergfreunde.de/event/wanderung-im-bielatal-2/
CATEGORIES:Wandergruppe "Die UHU's"
ATTACH;FMTTYPE=image/png:https://sedlitzer-bergfreunde.de/wp-content/uploads/2025/01/20250117_214206000_iOS.png
END:VEVENT
BEGIN:VEVENT
DTSTART;TZID=Europe/Berlin:20251009T183000
DTEND;TZID=Europe/Berlin:20251009T220000
DTSTAMP:20260421T191555
CREATED:20250522T211943Z
LAST-MODIFIED:20250927T191918Z
UID:5340-1760034600-1760047200@sedlitzer-bergfreunde.de
SUMMARY:Vorstandssitzung - Achtung\, wird vorverlegt - neuer Termin: 30.09.\, 18.30 Uhr
DESCRIPTION:Die Vorstandssitzungen finden in der Regel monatlich statt und sind für Mitglieder der DAV-Sektion “Sedlitzer Bergfreunde” öffentlich.\nBeginn ist jeweils (neue Uhrzeit ab Mai) 18.30 Uhr\, der Tagungsort ist das Sportlerheim in Sedlitz. Anträge zur Tagesordnung sind bis 7 Tage vor dem jeweiligen Termin einzureichen.
URL:https://sedlitzer-bergfreunde.de/event/vorstandssitzung-7/
CATEGORIES:Gruppen,Verein
END:VEVENT
BEGIN:VEVENT
DTSTART;TZID=Europe/Berlin:20251011T070000
DTEND;TZID=Europe/Berlin:20251011T180000
DTSTAMP:20260421T191555
CREATED:20250728T124529Z
LAST-MODIFIED:20251001T210256Z
UID:6046-1760166000-1760205600@sedlitzer-bergfreunde.de
SUMMARY:Neues WE-Angebot für Wanderfreunde: Start der neuen Wandergruppe unter Leitung von Anke
DESCRIPTION:Wir freuen uns\, euch den Start einer neuen Wandergruppe bekanntgeben zu können. (Hier erfahrt ihr mehr dazu.) \nDiese erste Tour dient vorallem dem ersten Kennenlernen. Der erste Termin für die\, noch namenlose\, Wandergruppe mit Anke Pätzold steht für den 11.10.25 auf dem Plan. Anmeldungen bitte bis allerspätestens 30.09.25 direkt bei Anke per WhatsApp (Nummer siehe September-Newsletter) oder per Mail an presse@sedlitzer-bergfreunde.de. Wenn die angemeldeten Teilnehmenden gelistet sind\, gibt es nähere Informationen zur Planung. \nSo viel sei schon einmal verraten\, wir werden zum Startpunkt ein Stück mit Fahrgemeinschaft fahren\, und zu Fuß dann ca. 16 – 18 km und einige Höhenmeter zurück legen. \nFür viel Abwechslung bei den Wegen und in der Natur ist gesorgt. Die Verpflegung werden wir grundsätzlich aus dem Rucksack absichern. Ob das ein Nachteil ist\, wird sich unterwegs herausstellen\, denn es ist ein goldener Herbsttag an dem sicher die Möglichkeiten\, die sich ergeben können\, stark frequentiert werden. \nIch freue mich auf Eure Anmeldungen. \nPS: da ich selbst vom 31.08. – 15.09. im ursprünglichen Norwegen umherstreife\, melde ich mich möglicherweise erst anschließend auf Eure Nachrichten. \nFitte Grüße \nEure Anke \nAktuelle Information: Abfahrt spätestens 7 Uhr ab Park&Ride Bahnhof Senftenberg. \nBitte Anke kontaktieren wegen Aufnahme in die WhatsApp-Gruppe\, sonst kriegen wir die Mitfahrgelegenheiten nicht geklärt. Ziel: Zittauer Gebirge
URL:https://sedlitzer-bergfreunde.de/event/neues-angebot-fuer-sportlich-fitte-wanderfreunde-start-der-neuen-wandergruppe-unter-leitung-von-anke/
LOCATION:Zittauer Gebirge
CATEGORIES:Wandern
END:VEVENT
BEGIN:VEVENT
DTSTART;TZID=Europe/Berlin:20251012T090000
DTEND;TZID=Europe/Berlin:20251012T160000
DTSTAMP:20260421T191555
CREATED:20250522T215244Z
LAST-MODIFIED:20250927T203333Z
UID:5386-1760259600-1760284800@sedlitzer-bergfreunde.de
SUMMARY:Familiengruppe unterwegs
DESCRIPTION:“Familiengruppe auf der Jagd” – Es ist Zeit für eine Fahrradtour. Wir starten diesmal um 9.00 Uhr am Abzweig zum Aussichtspunkt \,\,Reppister Höhe“ (Seenlandoase). Unser Ziel wird der Adler- & Jagdfalkenhof in Werchow sein. Dort werden wir Wildvögel in Aktion sehen und viele Informationen über die Hege unterschiedlichster Greife erfahren. (Eintritt: 8/10 €) Je nach Wetter werden wir das zweite Frühstück am Strand oder im Wald zu uns nehmen und verpflegen uns tagsüber aus dem Rucksack. Die Tour wird ca. 30 Kilometer lang (einfach) sein. Sollte das für einzelne Teilnehmer zu viel sein\, gibt es für den Rückweg die Möglichkeit mit der Bahn ab Lukaitztal 25 Kilometer abzukürzen. Familienwanderungen richten sich an alle Familien des Vereins\, welche in Gesellschaft unterwegs sein möchten. Sie werden sowohl zu Fuß oder als Radtouren durchgeführt. Die Geschwindigkeit geben die Kleinsten vor und die Touren sind für Kinder ab 4 Jahren aus eigener Kraft zu schaffen\, wenn sie sich regelmäßig an der frischen Luft bewegen. Aber auch die Jüngsten sind nicht ausgeschlossen\, denn es gibt ganz tolle Tragen oder Anhänger.
URL:https://sedlitzer-bergfreunde.de/event/familiengruppe-unterwegs-2/
LOCATION:Seenland Oase Reppist
CATEGORIES:Familiengruppe
ATTACH;FMTTYPE=image/jpeg:https://sedlitzer-bergfreunde.de/wp-content/uploads/2024/12/Kopie-von-Einladung-Mitgliederversammlung-Praesentation.zip-2.jpeg
ORGANIZER;CN="Enrico Peschk":MAILTO:jugend@sedlitzer-bergfreunde.de
END:VEVENT
BEGIN:VEVENT
DTSTART;VALUE=DATE:20251015
DTEND;VALUE=DATE:20251016
DTSTAMP:20260421T191555
CREATED:20251009T192657Z
LAST-MODIFIED:20251009T192729Z
UID:6593-1760486400-1760572799@sedlitzer-bergfreunde.de
SUMMARY:Wanderung Schwepnitz Ochsenberg
DESCRIPTION:Die Wandergruppe die UHU’s plant am Mittwoch den 15.10.2025 eine zusätzliche Wanderung von Schwepnitz zum Ochsenberg. Wanderleiter Annemarie und Andreas Delang.
URL:https://sedlitzer-bergfreunde.de/event/wanderung-schwepnitz-ochsenberg/
LOCATION:Schwepnitz
CATEGORIES:Wandergruppe "Die UHU's"
ATTACH;FMTTYPE=image/png:https://sedlitzer-bergfreunde.de/wp-content/uploads/2025/01/20250117_214206000_iOS.png
END:VEVENT
BEGIN:VEVENT
DTSTART;TZID=Europe/Berlin:20251016T190000
DTEND;TZID=Europe/Berlin:20251016T220000
DTSTAMP:20260421T191555
CREATED:20250922T194318Z
LAST-MODIFIED:20250922T194607Z
UID:6429-1760641200-1760652000@sedlitzer-bergfreunde.de
SUMMARY:öffentlicher Sektionsabend "Sardinien"
DESCRIPTION:Der “Selvaggio Blu” gilt als der schwierigste Trek Italiens und gleichzeitig als eines der einhundert schönsten Trekkings der Welt. Der “Wilde Blaue” ist ein Abenteuer entlang der Steilküste im Osten von Sardinien. Lange Abseilstellen\, kurze Kletterpassagen\, wegloses\, raues Gelände\, Blicke aufs tiefblaue Meer aus bis zu 600m Höhe…. \nFreut euch auf einen schönen Reisebericht von und mit unserem Bergfreund Raik! \nSektionsabend Sardisches Kletterabenteuer \n 
URL:https://sedlitzer-bergfreunde.de/event/oeffentlicher-sektionsabend-sardinien/
LOCATION:Adventkapelle Senftenberg\, Ernst-Thälmann-Str. 66a\, Senftenberg\, 01968
CATEGORIES:Sektionsabend
ATTACH;FMTTYPE=image/jpeg:https://sedlitzer-bergfreunde.de/wp-content/uploads/2024/12/Kopie-von-Einladung-Mitgliederversammlung-Praesentation.zip-3.jpeg
END:VEVENT
BEGIN:VEVENT
DTSTART;TZID=Europe/Berlin:20251019T093000
DTEND;TZID=Europe/Berlin:20251019T160000
DTSTAMP:20260421T191555
CREATED:20250927T201816Z
LAST-MODIFIED:20250927T201816Z
UID:6453-1760866200-1760889600@sedlitzer-bergfreunde.de
SUMMARY:Let's go Geocaching
DESCRIPTION:Diese Wanderung ist nichts für Schnellläufer oder Kilometerfresser! \nWir wollen gemeinsam die Gegend erkunden und möglichst alle am Wegesrand versteckten Schätze finden und bergen. Das kann manchmal etwas Geduld erfordern.\nEingeladen sind alle\, die schon Geocacher sind oder es vielleicht noch werden wollen. Natürlich dürfen auch Leute mitwandern\, denen diese Dosen völlig egal sind. 😉 \nLiebe Grüße\, Karin
URL:https://sedlitzer-bergfreunde.de/event/lets-go-geocaching/
LOCATION:Hohenbocka
CATEGORIES:Gruppen,Verein
END:VEVENT
BEGIN:VEVENT
DTSTART;VALUE=DATE:20251026
DTEND;VALUE=DATE:20251027
DTSTAMP:20260421T191555
CREATED:20250522T214517Z
LAST-MODIFIED:20250522T214517Z
UID:5373-1761436800-1761523199@sedlitzer-bergfreunde.de
SUMMARY:Klettertreff
DESCRIPTION:Nähere Infos folgen
URL:https://sedlitzer-bergfreunde.de/event/klettertreff-5/
END:VEVENT
BEGIN:VEVENT
DTSTART;TZID=Europe/Berlin:20251026T063000
DTEND;TZID=Europe/Berlin:20251026T180000
DTSTAMP:20260421T191555
CREATED:20250918T101548Z
LAST-MODIFIED:20250918T101548Z
UID:6410-1761460200-1761501600@sedlitzer-bergfreunde.de
SUMMARY:2.Alpinkader-Training von Capra Ibex (Thema: Mobile Sicherungsmittel)
DESCRIPTION:Das 2.Kadertraining findet am Sonntag\, den 26.10.2025 statt. Wir werden zeitig starten\, damit wir viel neues lernen können. \nNachdem wir uns beim ersten Kadertraining mit verschiedensten Standplätzen beschäftigt haben geht es diesmal um “Mobile Sicherungsmittel” jeglicher Art. \nDie Königshainer Berge sind für unser Thema gut geeignet. \n  \nTeilnahme ist nur möglich für Mitglieder des “Capra Ibex Kader Alpinklettern Dolomiten 2026”!
URL:https://sedlitzer-bergfreunde.de/event/2-alpinkader-training-von-capra-ibex-thema-mobile-sicherungsmittel/
LOCATION:Königshainer Berge\, Dorfstraße 147\, Königshain\, Sachsen\, 02829\, Germany
CATEGORIES:Capra Ibex
ATTACH;FMTTYPE=image/jpeg:https://sedlitzer-bergfreunde.de/wp-content/uploads/2024/04/CapraIbex-e1731446307122.jpg
ORGANIZER;CN="Capra Ibex - Bergsportgruppe Alpine Zukunft":MAILTO:capra.ibex@sedlitzer-bergfreunde.de
END:VEVENT
BEGIN:VEVENT
DTSTART;TZID=Europe/Berlin:20251026T090000
DTEND;TZID=Europe/Berlin:20251026T170000
DTSTAMP:20260421T191555
CREATED:20251005T203428Z
LAST-MODIFIED:20251005T203530Z
UID:6548-1761469200-1761498000@sedlitzer-bergfreunde.de
SUMMARY:Wanderung in die Königshainer Berge
DESCRIPTION:Die Wandergruppe “Immer wieder Sonntags” unter Leitung von Markus Richter bietet eine Gemeinschaftswanderung in die Königshainer Berge an.\nWir treffen uns am 26.10.2025 um 9.00 Uhr auf dem Parkplatz am ehemaligen Bahnhof in Königshain.\nDie Tour geht zunächst in den Süden in die “Kämpferberge”. Dann geht es in den Norden und zum Abschluss in die Steinbrüche.\nEine sehr schöne\, weitgehend naturnahe Wanderung mit einem interessanten Abschluss.\nDa es Herbst ist und wir auch auf feuchten Waldwegen wandern müsst Ihr bitte festes Schuhwerk tragen.\n\nVielen Dank und liebe Grüße\nMarkus (Richter)\n\nHier der Link zur Tour: https://www.alpenvereinaktiv.com/de/tour/gemeinschaftswanderung-am-26.10.2025/327804192/?share=%7E3zqvto9n%244ossy7cm
URL:https://sedlitzer-bergfreunde.de/event/wanderung-in-die-koenigshainer-berge/
LOCATION:Markus Richter
CATEGORIES:Wandergruppe „immer wieder sonntags“
END:VEVENT
BEGIN:VEVENT
DTSTART;TZID=Europe/Berlin:20251030T180000
DTEND;TZID=Europe/Berlin:20251102T180000
DTSTAMP:20260421T191555
CREATED:20250701T165435Z
LAST-MODIFIED:20250701T165525Z
UID:5824-1761847200-1762106400@sedlitzer-bergfreunde.de
SUMMARY:Halloween-Chaos auf der Sedlitzer Hütte
DESCRIPTION:…Wir lassen die Geister los! 👻 \nLiebe Berg- und Gruselfreunde\,\nmacht euch bereit für das schaurig-schöne Hüttenwochenende vom 30. Oktober bis zum 2. November 2025 auf unserer legendären Sedlitzer Hütte! \nVergesst Kürbis-Schnitzen – wir haben Besseres vor! \nOb ihr die Felswände wie Spinnenmenschen erklimmen wollt (traditionell sächsisch oder als Sportkletter-Vampire)\, oder lieber als Wander-Werwölfe durch die herbstliche Natur streift – für Nervenkitzel ist gesorgt! \nEins ist sicher: Es wird ein Outdoor-Spektakel\, das euch die Haare zu Berge stehen lässt. Also packt eure gruseligsten und vor allem wetterfestesten Klamotten ein – wer weiß\, welche Gespenster uns begegnen und welches Wetter sie mitbringen! \nJe nachdem\, ob uns ein Sturmwind\, ein Schneemann oder eine Horde frecher Kürbisse überrascht\, und natürlich ganz nach euren verwunschenen Wünschen\, zaubern wir ein unvergessliches Wochenende für euch. \nUnd ja\, auch der Spuk der Gemütlichkeit darf nicht fehlen: Gemeinsames Hexen-Kochen\, makabre Spieleabende und das große Exorzismus-Putzen am Ende gehören natürlich auch dazu. Schließlich wollen wir die Hütte nicht als Geistervilla hinterlassen! \nGeschlafen wird stilecht im Lager – kuschelt euch in eure Schlafsäcke\, als ob die Nacht der lebenden Toten naht! \nEuer Philipp 🐐 (…der übrigens schon sein Steinbockkostüm für Halloween bügelt) \n🔸️Organisation durch Ricarda\, Basti & Philipp \n  \nKeine Anmeldung mehr möglich! Diese Veranstaltung ist ausgebucht.
URL:https://sedlitzer-bergfreunde.de/event/halloween-chaos-auf-der-sedlitzer-huette/
LOCATION:Sedlitzer Hütte\, Niedervogelgesang 10\, Pirna
CATEGORIES:Capra Ibex
ATTACH;FMTTYPE=image/png:https://sedlitzer-bergfreunde.de/wp-content/uploads/2025/07/Halloween-Chaos-auf-der-Sedlitzer-Huette-Foto-Philipp-Liebscher-AI-scaled.png
ORGANIZER;CN="Philipp Liebscher":MAILTO:capra.ibex@sedlitzer-bergfreunde.de
END:VEVENT
END:VCALENDAR