BEGIN:VCALENDAR
VERSION:2.0
PRODID:-//Sedlitzer Bergfreunde e.V. - ECPv6.15.20//NONSGML v1.0//EN
CALSCALE:GREGORIAN
METHOD:PUBLISH
X-ORIGINAL-URL:https://sedlitzer-bergfreunde.de
X-WR-CALDESC:Veranstaltungen für Sedlitzer Bergfreunde e.V.
REFRESH-INTERVAL;VALUE=DURATION:PT1H
X-Robots-Tag:noindex
X-PUBLISHED-TTL:PT1H
BEGIN:VTIMEZONE
TZID:Europe/Berlin
BEGIN:DAYLIGHT
TZOFFSETFROM:+0100
TZOFFSETTO:+0200
TZNAME:CEST
DTSTART:20250330T010000
END:DAYLIGHT
BEGIN:STANDARD
TZOFFSETFROM:+0200
TZOFFSETTO:+0100
TZNAME:CET
DTSTART:20251026T010000
END:STANDARD
BEGIN:DAYLIGHT
TZOFFSETFROM:+0100
TZOFFSETTO:+0200
TZNAME:CEST
DTSTART:20260329T010000
END:DAYLIGHT
BEGIN:STANDARD
TZOFFSETFROM:+0200
TZOFFSETTO:+0100
TZNAME:CET
DTSTART:20261025T010000
END:STANDARD
BEGIN:DAYLIGHT
TZOFFSETFROM:+0100
TZOFFSETTO:+0200
TZNAME:CEST
DTSTART:20270328T010000
END:DAYLIGHT
BEGIN:STANDARD
TZOFFSETFROM:+0200
TZOFFSETTO:+0100
TZNAME:CET
DTSTART:20271031T010000
END:STANDARD
END:VTIMEZONE
BEGIN:VEVENT
DTSTART;TZID=Europe/Berlin:20260426T093000
DTEND;TZID=Europe/Berlin:20260426T170000
DTSTAMP:20260421T103219
CREATED:20260414T204249Z
LAST-MODIFIED:20260416T063451Z
UID:8708-1777195800-1777222800@sedlitzer-bergfreunde.de
SUMMARY:Tour von Bautzen durch das Spreetal zur Teufelskanzel
DESCRIPTION:Ich biete am 26.04.2026 eine Tour von Bautzen durch das Spreetal zur Teufelskanzel an.\nWir treffen uns um 9.30 Uhr auf dem Parkplatz am Garagenkomplex in der Neustädter Straße.\nIch habe die Tour selbst noch nicht gemacht und werde es bis zum Termin auch nicht schaffen.\nDeshalb müssen wir sehen\, ob es wie geplant geht und ggf. vor Ort entscheiden.\n\nGruß\, Markus\n\n\n\nHier der Link zur Tour auf alpenvereinaktiv:\nhttps://www.alpenvereinaktiv.com/de/tour/bautzen-spreetal-teufelskanzel/338242925/?share=%7E34jvajva%244ossm7hb\n\n\n\nFür alle\, die sich nicht (kostenlos!!) bei alpenvereinaktiv.com anmelden wollen hier noch ein Screenshot der Karte:\n\n\n\nDie gpx-Datei wird ergänzt.
URL:https://sedlitzer-bergfreunde.de/event/tour-von-bautzen-durch-das-spreetal-zur-teufelskanzel/
LOCATION:Bautzen durch das Spreetal zur Teufelskanzel
CATEGORIES:Wandergruppe „immer wieder sonntags“
ATTACH;FMTTYPE=image/jpeg:https://sedlitzer-bergfreunde.de/wp-content/uploads/2026/04/Bautzen_2026_04_26-1.jpg
END:VEVENT
END:VCALENDAR