BEGIN:VCALENDAR
VERSION:2.0
PRODID:-//Sedlitzer Bergfreunde e.V. - ECPv6.15.20//NONSGML v1.0//EN
CALSCALE:GREGORIAN
METHOD:PUBLISH
X-WR-CALNAME:Sedlitzer Bergfreunde e.V.
X-ORIGINAL-URL:https://sedlitzer-bergfreunde.de
X-WR-CALDESC:Veranstaltungen für Sedlitzer Bergfreunde e.V.
REFRESH-INTERVAL;VALUE=DURATION:PT1H
X-Robots-Tag:noindex
X-PUBLISHED-TTL:PT1H
BEGIN:VTIMEZONE
TZID:Europe/Berlin
BEGIN:DAYLIGHT
TZOFFSETFROM:+0100
TZOFFSETTO:+0200
TZNAME:CEST
DTSTART:20250330T010000
END:DAYLIGHT
BEGIN:STANDARD
TZOFFSETFROM:+0200
TZOFFSETTO:+0100
TZNAME:CET
DTSTART:20251026T010000
END:STANDARD
BEGIN:DAYLIGHT
TZOFFSETFROM:+0100
TZOFFSETTO:+0200
TZNAME:CEST
DTSTART:20260329T010000
END:DAYLIGHT
BEGIN:STANDARD
TZOFFSETFROM:+0200
TZOFFSETTO:+0100
TZNAME:CET
DTSTART:20261025T010000
END:STANDARD
BEGIN:DAYLIGHT
TZOFFSETFROM:+0100
TZOFFSETTO:+0200
TZNAME:CEST
DTSTART:20270328T010000
END:DAYLIGHT
BEGIN:STANDARD
TZOFFSETFROM:+0200
TZOFFSETTO:+0100
TZNAME:CET
DTSTART:20271031T010000
END:STANDARD
END:VTIMEZONE
BEGIN:VEVENT
DTSTART;TZID=Europe/Berlin:20260322T070000
DTEND;TZID=Europe/Berlin:20260322T170000
DTSTAMP:20260422T001052
CREATED:20260227T211228Z
LAST-MODIFIED:20260227T211413Z
UID:8089-1774162800-1774198800@sedlitzer-bergfreunde.de
SUMMARY:Sonntags-Ausflug der Familien-Wandergruppe
DESCRIPTION:Organiserter Ausflug nach Berlin in eine tolle Ausstellung und Mitmach-Installationen rund um das Thema Arktis und Antarktis (www.polar-experience.com).\nWeitere Infos folgen nach Interesse. Ansprechpartner ist Enrico Peschk.
URL:https://sedlitzer-bergfreunde.de/event/sonntags-ausflug-der-familien-wandergruppe/
LOCATION:Arena Berlin
CATEGORIES:Familiengruppe
ATTACH;FMTTYPE=image/jpeg:https://sedlitzer-bergfreunde.de/wp-content/uploads/2024/12/Kopie-von-Einladung-Mitgliederversammlung-Praesentation.zip-2.jpeg
ORGANIZER;CN="Enrico Peschk":MAILTO:jugend@sedlitzer-bergfreunde.de
END:VEVENT
BEGIN:VEVENT
DTSTART;TZID=Europe/Berlin:20260322T093000
DTEND;TZID=Europe/Berlin:20260322T173000
DTSTAMP:20260422T001052
CREATED:20260301T212316Z
LAST-MODIFIED:20260315T173202Z
UID:8153-1774171800-1774200600@sedlitzer-bergfreunde.de
SUMMARY:5.Kadertraining (Praxis am Fels)
DESCRIPTION:Wir wollen zum 5.Kadertraining die Theorie in die Praxis am Felsen umsetzen und verschiedene Übungen durchführen\, um routiniert zu werden. Es soll um das Klettern mit Halbseilen gehen. Also Vorstieg\, Nachstieg\, Abseilen\, gleichzeitiges Sichern von 2 Nachsteigern usw.\nWas dabei auch eine Rolle spielt: Zusammenarbeit am Standplatz\, Verständigung in der Seilschaft.\nBitte bringt einen gut gepackten Kletterrucksack mit\, in dem alles drin ist.\nKurzprusik nicht vergessen und Alpintuber (wer hat). \nWir treffen uns um 09:30 Uhr am Oderwitzer Spitzberg. \nEine Teilnahme ist nur für Mitglieder des Capra Ibex Alpinkaders möglich. Weitere Infos und Anmeldung via Spond.
URL:https://sedlitzer-bergfreunde.de/event/5-kadertraining-praxis-am-fels/
LOCATION:Oderwitzer Spitzberg
CATEGORIES:Capra Ibex
ATTACH;FMTTYPE=image/jpeg:https://sedlitzer-bergfreunde.de/wp-content/uploads/2025/12/4.Kadertraining-Thema-Tourenplanung_Foto-Capra-Ibex-Philipp-Liebscher-Nr.2-scaled.jpg
ORGANIZER;CN="Capra Ibex - Bergsportgruppe Alpine Zukunft":MAILTO:capra.ibex@sedlitzer-bergfreunde.de
END:VEVENT
END:VCALENDAR