BEGIN:VCALENDAR
VERSION:2.0
PRODID:-//Sedlitzer Bergfreunde e.V. - ECPv6.15.20//NONSGML v1.0//EN
CALSCALE:GREGORIAN
METHOD:PUBLISH
X-ORIGINAL-URL:https://sedlitzer-bergfreunde.de
X-WR-CALDESC:Veranstaltungen für Sedlitzer Bergfreunde e.V.
REFRESH-INTERVAL;VALUE=DURATION:PT1H
X-Robots-Tag:noindex
X-PUBLISHED-TTL:PT1H
BEGIN:VTIMEZONE
TZID:Europe/Berlin
BEGIN:DAYLIGHT
TZOFFSETFROM:+0100
TZOFFSETTO:+0200
TZNAME:CEST
DTSTART:20250330T010000
END:DAYLIGHT
BEGIN:STANDARD
TZOFFSETFROM:+0200
TZOFFSETTO:+0100
TZNAME:CET
DTSTART:20251026T010000
END:STANDARD
BEGIN:DAYLIGHT
TZOFFSETFROM:+0100
TZOFFSETTO:+0200
TZNAME:CEST
DTSTART:20260329T010000
END:DAYLIGHT
BEGIN:STANDARD
TZOFFSETFROM:+0200
TZOFFSETTO:+0100
TZNAME:CET
DTSTART:20261025T010000
END:STANDARD
BEGIN:DAYLIGHT
TZOFFSETFROM:+0100
TZOFFSETTO:+0200
TZNAME:CEST
DTSTART:20270328T010000
END:DAYLIGHT
BEGIN:STANDARD
TZOFFSETFROM:+0200
TZOFFSETTO:+0100
TZNAME:CET
DTSTART:20271031T010000
END:STANDARD
END:VTIMEZONE
BEGIN:VEVENT
DTSTART;TZID=Europe/Berlin:20260319T090000
DTEND;TZID=Europe/Berlin:20260319T170000
DTSTAMP:20260421T223553
CREATED:20260225T202241Z
LAST-MODIFIED:20260225T202324Z
UID:8050-1773910800-1773939600@sedlitzer-bergfreunde.de
SUMMARY:Unterwegs auf dem Geopfad Goßdorf mit interaktivem Quiz (Wanderung WG 13. Juni)
DESCRIPTION:Der Geopfad Goßdorf ist ein ca. 7 km langer Rundwanderweg in der Sächsischen Schweiz\, der die komplexe Geologie der Region anschaulich macht. \nTreff: 9:00 Uhr bei Firma Kehl\, Laugkfeld 22\, 01968 Senftenberg\nSchwierigkeit: Mittelschwer (T1/T2) – auch für Familien geeignet\nDauer: Etwa 2 bis 3 Stunden \nHighlights:\nGickelsberg (414 m): Ein markanter Basaltkegel (ehemaliger Vulkanschlot) mit Panoramablick.\nLausitzer Überschiebung: Hier trifft Granit auf Sandstein – eine der bedeutendsten Verwerfungen Mitteleuropas.\nHankehübel: Aussichtspunkt mit Blick über die Tafelberge der Sächsischen Schweiz.\nGoßdorfer Perle: Ein großer\, bemalter Globus\, der sich drehen lässt.
URL:https://sedlitzer-bergfreunde.de/event/unterwegs-auf-dem-geopfad-gossdorf-mit-interaktivem-quiz-wanderung-wg-13-juni/
LOCATION:Firma Kehl\, Laugkfeld\, Laugkfeld\, Senftenberg
CATEGORIES:Wandergruppe WG 13.6. mit Hund!
ATTACH;FMTTYPE=image/png:https://sedlitzer-bergfreunde.de/wp-content/uploads/2025/01/20250117_214206000_iOS.png
END:VEVENT
BEGIN:VEVENT
DTSTART;TZID=Europe/Berlin:20260319T190000
DTEND;TZID=Europe/Berlin:20260319T213000
DTSTAMP:20260421T223553
CREATED:20260227T205521Z
LAST-MODIFIED:20260228T201633Z
UID:8078-1773946800-1773955800@sedlitzer-bergfreunde.de
SUMMARY:Öffentlicher Sektionsabend: Die spinnen\, die Sachsen! - Spinnen die Sachsen? Geschichte und Geschichten vom Sächsischen Klettern
DESCRIPTION:Beim Thema Klettern in der Sächsischen Schweiz scheiden sich die Geister. Die einen sagen: “Da kann man nicht Klettern! Alles viel zu gefährlich\, keine Haken und dann diese komischen Knotenschlingen.” – Und für die anderen ist es das schönste Klettergebiet. Gerade weil es so ist wie es ist. Mit allen Besonderheiten und Eigenarten\, mit seiner langen Tradition\, seiner Ethik\, den Gepflogenheiten. \nAber warum ist das so? Warum gehen die Meinungen so auseinander?\nHeute beginnen die meisten mit dem Klettern in der Halle\, an künstlichen Kletteranlagen oder in Klettergärten. Da hat man bunte Griffe und Tritte. Damit ist die Route klar vorgegeben und es gibt Haken in engen Abständen. Es kann also normalerweise nichts passieren. \nIm Sandstein ist das völlig anders. Man muss zuerst den Gipfel finden\, dann den richtigen Einstieg zum Kletterweg und diesen auch selber absichern\, u.a. mit diesen Knotenschlingen. Das zu lernen erfordert Übung und Geduld. Man sollte sich auch an die Kletterschwierigkeiten herantasten und langsam steigern. Dazu muss man noch bestimmte Techniken lernen\, die es in der Kletterhalle nicht gibt: Reibung\, Riss\, Kamin. \nWann fing das alles an? Wie ist man früher geklettert? Was haben „Überfälle“ und „Baustellen“ mit dem Klettern zu tun? \nAnhand von Bildern\, Filmausschnitten\, Erzählungen und Geschichten soll versucht werden\, Euch das Klettern in der Sächsischen Schweiz näher zu bringen. Hier kann man noch Abenteuer erleben! \nGeschrieben von Christian Pech \n \nHinweis an Gäste: Sektionsabende sind öffentlichen Veranstaltungen. Referenten erzählen von ihren Reisen. Alle Interessierten sind herzlich willkommen. Der Eintritt ist frei\, eine kleine Spende für die Veranstaltungsräumlichkeit wäre schön. \nSektionsabend Die Spinnen die Sachsen
URL:https://sedlitzer-bergfreunde.de/event/oeffentlicher-sektionsabend-die-spinnen-doch-die-sachsen/
LOCATION:Adventkapelle Senftenberg\, Ernst-Thälmann-Str. 66a\, Senftenberg\, 01968
CATEGORIES:Sektionsabend
ATTACH;FMTTYPE=image/jpeg:https://sedlitzer-bergfreunde.de/wp-content/uploads/2024/12/Kopie-von-Einladung-Mitgliederversammlung-Praesentation.zip-3.jpeg
END:VEVENT
END:VCALENDAR