BEGIN:VCALENDAR
VERSION:2.0
PRODID:-//Sedlitzer Bergfreunde e.V. - ECPv6.15.20//NONSGML v1.0//EN
CALSCALE:GREGORIAN
METHOD:PUBLISH
X-WR-CALNAME:Sedlitzer Bergfreunde e.V.
X-ORIGINAL-URL:https://sedlitzer-bergfreunde.de
X-WR-CALDESC:Veranstaltungen für Sedlitzer Bergfreunde e.V.
REFRESH-INTERVAL;VALUE=DURATION:PT1H
X-Robots-Tag:noindex
X-PUBLISHED-TTL:PT1H
BEGIN:VTIMEZONE
TZID:Europe/Berlin
BEGIN:DAYLIGHT
TZOFFSETFROM:+0100
TZOFFSETTO:+0200
TZNAME:CEST
DTSTART:20250330T010000
END:DAYLIGHT
BEGIN:STANDARD
TZOFFSETFROM:+0200
TZOFFSETTO:+0100
TZNAME:CET
DTSTART:20251026T010000
END:STANDARD
BEGIN:DAYLIGHT
TZOFFSETFROM:+0100
TZOFFSETTO:+0200
TZNAME:CEST
DTSTART:20260329T010000
END:DAYLIGHT
BEGIN:STANDARD
TZOFFSETFROM:+0200
TZOFFSETTO:+0100
TZNAME:CET
DTSTART:20261025T010000
END:STANDARD
BEGIN:DAYLIGHT
TZOFFSETFROM:+0100
TZOFFSETTO:+0200
TZNAME:CEST
DTSTART:20270328T010000
END:DAYLIGHT
BEGIN:STANDARD
TZOFFSETFROM:+0200
TZOFFSETTO:+0100
TZNAME:CET
DTSTART:20271031T010000
END:STANDARD
END:VTIMEZONE
BEGIN:VEVENT
DTSTART;TZID=Europe/Berlin:20260306T150000
DTEND;TZID=Europe/Berlin:20260306T210000
DTSTAMP:20260423T103810
CREATED:20260221T130802Z
LAST-MODIFIED:20260221T130802Z
UID:8010-1772809200-1772830800@sedlitzer-bergfreunde.de
SUMMARY:Capra Ibex zum Bouldern im Klunker
DESCRIPTION:Anmeldung und weitere Informationen findet Ihr in unserer Mannschaftssport-App “Spond”
URL:https://sedlitzer-bergfreunde.de/event/capra-ibex-zum-bouldern-im-klunker/
LOCATION:Klunker Boulderhalle Cottbus\, Parzellenstr. 10\, Cottbus\, Brandenburg\, 03046\, Germany
CATEGORIES:Bouldern,Capra Ibex,Kinder & Jugend
ATTACH;FMTTYPE=image/jpeg:https://sedlitzer-bergfreunde.de/wp-content/uploads/2025/12/20251221_Capra-Ibex-Boulderausflug-am-4.Advent_Foto-Philipp-Liebscher-2-scaled.jpg
ORGANIZER;CN="Capra Ibex - Bergsportgruppe Alpine Zukunft":MAILTO:capra.ibex@sedlitzer-bergfreunde.de
END:VEVENT
END:VCALENDAR