BEGIN:VCALENDAR
VERSION:2.0
PRODID:-//Sedlitzer Bergfreunde e.V. - ECPv6.15.20//NONSGML v1.0//EN
CALSCALE:GREGORIAN
METHOD:PUBLISH
X-ORIGINAL-URL:https://sedlitzer-bergfreunde.de
X-WR-CALDESC:Veranstaltungen für Sedlitzer Bergfreunde e.V.
REFRESH-INTERVAL;VALUE=DURATION:PT1H
X-Robots-Tag:noindex
X-PUBLISHED-TTL:PT1H
BEGIN:VTIMEZONE
TZID:Europe/Berlin
BEGIN:DAYLIGHT
TZOFFSETFROM:+0100
TZOFFSETTO:+0200
TZNAME:CEST
DTSTART:20250330T010000
END:DAYLIGHT
BEGIN:STANDARD
TZOFFSETFROM:+0200
TZOFFSETTO:+0100
TZNAME:CET
DTSTART:20251026T010000
END:STANDARD
BEGIN:DAYLIGHT
TZOFFSETFROM:+0100
TZOFFSETTO:+0200
TZNAME:CEST
DTSTART:20260329T010000
END:DAYLIGHT
BEGIN:STANDARD
TZOFFSETFROM:+0200
TZOFFSETTO:+0100
TZNAME:CET
DTSTART:20261025T010000
END:STANDARD
BEGIN:DAYLIGHT
TZOFFSETFROM:+0100
TZOFFSETTO:+0200
TZNAME:CEST
DTSTART:20270328T010000
END:DAYLIGHT
BEGIN:STANDARD
TZOFFSETFROM:+0200
TZOFFSETTO:+0100
TZNAME:CET
DTSTART:20271031T010000
END:STANDARD
END:VTIMEZONE
BEGIN:VEVENT
DTSTART;TZID=Europe/Berlin:20260301T090000
DTEND;TZID=Europe/Berlin:20260301T170000
DTSTAMP:20260421T223440
CREATED:20251125T202209Z
LAST-MODIFIED:20260226T214721Z
UID:7252-1772355600-1772384400@sedlitzer-bergfreunde.de
SUMMARY:Winterliche Wanderung der BERGFEXE im Landschaftsschutzgebiet Dresdener Heide
DESCRIPTION:Am Sonntag den 01.03.2026\, 8 Uhr (Startzeit Senftenberg) treffen wir uns für eine winterliche Wanderung der BERGFEXE im Landschaftsschutzgebiet Dresdener Heide. Wobei Heide überwiegend für Nadelwald steht. \nWir starten übers Kalte Gebirge (272m hoch)\, vorbei an der Ochsenkopf-Hütte. Wir passieren das Landgut Hofewiese (was im Winterschlaf ist) und dann geht es an der Prießnitz\, einem rechten Nebenfluss der Elbe\, entlang. Unser Ziel auf diesem Weg in westlicher Richtung ist das Flächendenkmal “Prießnitz-Wasserfall” von idyllischen Uferhängen eingerahmt. Jetzt bietet sich auch eine Mittagsrast an\, für die ihr Euch eigenen Proviant und ein Heißgetränk einpacken solltet. Weiter geht es Richtung Kapellenteich und über die Schwedenbrücke. Vorbei am Haus der Naturfreunde Heidemühle und 2 kleineren Steinbrüchen ist unsere nächstes Etappenziel der romantisch mitten im Wald gelegenen Haarweidenstausee. Hier gibt es eine Schutzhütte\, Bänke und Tische\, gut geeignet für einen Nachmittags-Kaffee oder Punsch. Lasst uns das dann gemeinsam besprechen\, wie wir uns dort beköstigen wollen.  Danach geht’s wieder in nördlicher Richtung nach Radeberg. So dass wir ca. 16:30/17 Uhr am Parkplatz ankommen. \nDie Strecke ist mit 7 Stunden Laufzeit reichlich kalkuliert und hat lediglich 210m Auf- sowie 220m Höhenunterschied im Abstieg aus. \nFür Interessierte ist die Tour als Schnuppertour\, bitte nach Rücksprache mit Anke\, geeignet. \nFür die Fahrgemeinschaften ist der gemeinsame Treffpunkt der Parkplatz in der Rudolf-Harbig-Straße in Senftenberg (neben TEDI). Wer direkt nach Radeberg anreist\, Start ist 9 Uhr im Bereich des Färberbornteiches und dort endet unsere 23-km-Runde am Nachmittag auch wieder. Die genaue Adresse erfahrt ihr über die WhatsApp-Gruppe\, bitte daher bei Anke Tel. oder WhatsApp  017670121216 anmelden.
URL:https://sedlitzer-bergfreunde.de/event/winterliche-wanderung-der-bergfexe-im-landschaftsschutzgebiet-dresdener-heide/
LOCATION:Färberbornteich bei Radeberg
CATEGORIES:Wandergruppe "Bergfexe"
ATTACH;FMTTYPE=image/jpeg:https://sedlitzer-bergfreunde.de/wp-content/uploads/2025/11/Flyer-1.3.26.jpeg
END:VEVENT
BEGIN:VEVENT
DTSTART;TZID=Europe/Berlin:20260301T100000
DTEND;TZID=Europe/Berlin:20260301T160000
DTSTAMP:20260421T223440
CREATED:20260206T165250Z
LAST-MODIFIED:20260206T165250Z
UID:7956-1772359200-1772380800@sedlitzer-bergfreunde.de
SUMMARY:Capra Ibex zum Sportklettern am Oderwitzer Spitzberg
DESCRIPTION:Wir starten am 01.03.2026 in die Outdoor-Kletter-Saison! 🧗🏽🐐\n.\nAn den Klingsteinfelsen des Oderwitzer Hausberges finden wir über 60 Routen in den Schwierigkeiten II bis Xb\, die meisten davon mittelschwer in leicht geneigter Wand. Bei optimalen Sicherungsmöglichkeiten ist es vor allem als Kinder- und Familienklettergebiet geeignet. Eine der drei Gipfelklippen ist mit leichten\, kurzen Routen speziell für Kinder eingerichtet worden.\n.\nWer nicht nur Sportklettern möchte\, kann auch zwei Klettersteige begehen.\n.\nWeitere Informationen & Anmeldung via Spond.
URL:https://sedlitzer-bergfreunde.de/event/capra-ibex-zum-sportklettern-am-oderwitzer-spitzberg/
LOCATION:Oderwitzer Spitzberg
CATEGORIES:Capra Ibex,Kinder & Jugend
ATTACH;FMTTYPE=image/png:https://sedlitzer-bergfreunde.de/wp-content/uploads/2026/02/Capra-Ibex-Oderwitzer-Spitzberg.png
ORGANIZER;CN="Capra Ibex - Bergsportgruppe Alpine Zukunft":MAILTO:capra.ibex@sedlitzer-bergfreunde.de
END:VEVENT
END:VCALENDAR