BEGIN:VCALENDAR
VERSION:2.0
PRODID:-//Sedlitzer Bergfreunde e.V. - ECPv6.15.20//NONSGML v1.0//EN
CALSCALE:GREGORIAN
METHOD:PUBLISH
X-WR-CALNAME:Sedlitzer Bergfreunde e.V.
X-ORIGINAL-URL:https://sedlitzer-bergfreunde.de
X-WR-CALDESC:Veranstaltungen für Sedlitzer Bergfreunde e.V.
REFRESH-INTERVAL;VALUE=DURATION:PT1H
X-Robots-Tag:noindex
X-PUBLISHED-TTL:PT1H
BEGIN:VTIMEZONE
TZID:Europe/Berlin
BEGIN:DAYLIGHT
TZOFFSETFROM:+0100
TZOFFSETTO:+0200
TZNAME:CEST
DTSTART:20250330T010000
END:DAYLIGHT
BEGIN:STANDARD
TZOFFSETFROM:+0200
TZOFFSETTO:+0100
TZNAME:CET
DTSTART:20251026T010000
END:STANDARD
BEGIN:DAYLIGHT
TZOFFSETFROM:+0100
TZOFFSETTO:+0200
TZNAME:CEST
DTSTART:20260329T010000
END:DAYLIGHT
BEGIN:STANDARD
TZOFFSETFROM:+0200
TZOFFSETTO:+0100
TZNAME:CET
DTSTART:20261025T010000
END:STANDARD
BEGIN:DAYLIGHT
TZOFFSETFROM:+0100
TZOFFSETTO:+0200
TZNAME:CEST
DTSTART:20270328T010000
END:DAYLIGHT
BEGIN:STANDARD
TZOFFSETFROM:+0200
TZOFFSETTO:+0100
TZNAME:CET
DTSTART:20271031T010000
END:STANDARD
END:VTIMEZONE
BEGIN:VEVENT
DTSTART;TZID=Europe/Berlin:20260226T180000
DTEND;TZID=Europe/Berlin:20260226T210000
DTSTAMP:20260422T001143
CREATED:20251230T213555Z
LAST-MODIFIED:20251230T220248Z
UID:7679-1772128800-1772139600@sedlitzer-bergfreunde.de
SUMMARY:Mitgliederversammlung der Sedlitzer Bergfreunde 2026
DESCRIPTION:Unsere wichtige\, jährliche Versammlung mit aktuellen Berichten\, Informationen und Abstimmungen\, unseren Verein betreffend. \nAlle Mitglieder sind herzlich willkommen. Wir freuen uns auf euch\, eure Ideen und Hinweise! \n  \nWenn ihr einen Eindruck gewinnen wollt\, was euch erwartet\, dann schaut doch noch mal in den Bericht zur Versammlung 2025 rein: Mitgliederversammlung 2025 &#8211; ein kurzer Rückblick
URL:https://sedlitzer-bergfreunde.de/event/mitgliederversammlung-der-sedlitzer-bergfreunde-2026/
LOCATION:Regenbogen-Grundschule Senftenberg\, Johannes-R.-Becher-Str. 19\, Senftenberg\, 01968\, Germany
CATEGORIES:Verein
ATTACH;FMTTYPE=image/jpeg:https://sedlitzer-bergfreunde.de/wp-content/uploads/2025/03/20250227_Mitgliederversammlung_Fotos_SarahWerner00042.jpg
ORGANIZER;CN="Enrico Peschk":MAILTO:jugend@sedlitzer-bergfreunde.de
END:VEVENT
END:VCALENDAR