BEGIN:VCALENDAR
VERSION:2.0
PRODID:-//Sedlitzer Bergfreunde e.V. - ECPv6.15.20//NONSGML v1.0//EN
CALSCALE:GREGORIAN
METHOD:PUBLISH
X-WR-CALNAME:Sedlitzer Bergfreunde e.V.
X-ORIGINAL-URL:https://sedlitzer-bergfreunde.de
X-WR-CALDESC:Veranstaltungen für Sedlitzer Bergfreunde e.V.
REFRESH-INTERVAL;VALUE=DURATION:PT1H
X-Robots-Tag:noindex
X-PUBLISHED-TTL:PT1H
BEGIN:VTIMEZONE
TZID:Europe/Berlin
BEGIN:DAYLIGHT
TZOFFSETFROM:+0100
TZOFFSETTO:+0200
TZNAME:CEST
DTSTART:20250330T010000
END:DAYLIGHT
BEGIN:STANDARD
TZOFFSETFROM:+0200
TZOFFSETTO:+0100
TZNAME:CET
DTSTART:20251026T010000
END:STANDARD
BEGIN:DAYLIGHT
TZOFFSETFROM:+0100
TZOFFSETTO:+0200
TZNAME:CEST
DTSTART:20260329T010000
END:DAYLIGHT
BEGIN:STANDARD
TZOFFSETFROM:+0200
TZOFFSETTO:+0100
TZNAME:CET
DTSTART:20261025T010000
END:STANDARD
BEGIN:DAYLIGHT
TZOFFSETFROM:+0100
TZOFFSETTO:+0200
TZNAME:CEST
DTSTART:20270328T010000
END:DAYLIGHT
BEGIN:STANDARD
TZOFFSETFROM:+0200
TZOFFSETTO:+0100
TZNAME:CET
DTSTART:20271031T010000
END:STANDARD
END:VTIMEZONE
BEGIN:VEVENT
DTSTART;VALUE=DATE:20260222
DTEND;VALUE=DATE:20260223
DTSTAMP:20260422T001032
CREATED:20251206T205428Z
LAST-MODIFIED:20260221T125522Z
UID:7421-1771718400-1771804799@sedlitzer-bergfreunde.de
SUMMARY:4.Alpinkader-Training von Capra Ibex (Thema: Tourenplanung)
DESCRIPTION:Das 4.Kadertraining findet am Sonntag\, den 22.02.2026 ganztägig statt! \nNachdem wir uns beim ersten Kadertraining mit verschiedensten Standplätzen beschäftigt hatten\, ging es beim zweiten um “Mobile Sicherungsmittel” jeglicher Art. Beim dritten Kadertraining behandelten wir das Thema: Topos lesen & verstehen. \nBeim 4.Kadertraining geht es um Tourenplanung. \n  \nVeranstaltungsort: Gemeinderaum an der Dorfkirche – Ev. Kirchengemeinde Sedlitz \n\nTeilnahme ist nur möglich für Mitglieder des “Capra Ibex Kader Alpinklettern Dolomiten 2026”! \n\n \n 
URL:https://sedlitzer-bergfreunde.de/event/2-alpinkader-training-von-capra-ibex-thema-mobile-sicherungsmittel-2-2/
CATEGORIES:Capra Ibex
ATTACH;FMTTYPE=image/jpeg:https://sedlitzer-bergfreunde.de/wp-content/uploads/2025/12/4.Kadertraining-Thema-Tourenplanung_Foto-Capra-Ibex-Philipp-Liebscher-Nr.2-scaled.jpg
ORGANIZER;CN="Capra Ibex - Bergsportgruppe Alpine Zukunft":MAILTO:capra.ibex@sedlitzer-bergfreunde.de
END:VEVENT
END:VCALENDAR