BEGIN:VCALENDAR
VERSION:2.0
PRODID:-//Sedlitzer Bergfreunde e.V. - ECPv6.15.20//NONSGML v1.0//EN
CALSCALE:GREGORIAN
METHOD:PUBLISH
X-WR-CALNAME:Sedlitzer Bergfreunde e.V.
X-ORIGINAL-URL:https://sedlitzer-bergfreunde.de
X-WR-CALDESC:Veranstaltungen für Sedlitzer Bergfreunde e.V.
REFRESH-INTERVAL;VALUE=DURATION:PT1H
X-Robots-Tag:noindex
X-PUBLISHED-TTL:PT1H
BEGIN:VTIMEZONE
TZID:Europe/Berlin
BEGIN:DAYLIGHT
TZOFFSETFROM:+0100
TZOFFSETTO:+0200
TZNAME:CEST
DTSTART:20250330T010000
END:DAYLIGHT
BEGIN:STANDARD
TZOFFSETFROM:+0200
TZOFFSETTO:+0100
TZNAME:CET
DTSTART:20251026T010000
END:STANDARD
BEGIN:DAYLIGHT
TZOFFSETFROM:+0100
TZOFFSETTO:+0200
TZNAME:CEST
DTSTART:20260329T010000
END:DAYLIGHT
BEGIN:STANDARD
TZOFFSETFROM:+0200
TZOFFSETTO:+0100
TZNAME:CET
DTSTART:20261025T010000
END:STANDARD
BEGIN:DAYLIGHT
TZOFFSETFROM:+0100
TZOFFSETTO:+0200
TZNAME:CEST
DTSTART:20270328T010000
END:DAYLIGHT
BEGIN:STANDARD
TZOFFSETFROM:+0200
TZOFFSETTO:+0100
TZNAME:CET
DTSTART:20271031T010000
END:STANDARD
END:VTIMEZONE
BEGIN:VEVENT
DTSTART;TZID=Europe/Berlin:20260215T093000
DTEND;TZID=Europe/Berlin:20260215T170000
DTSTAMP:20260421T222119
CREATED:20260129T214114Z
LAST-MODIFIED:20260211T194320Z
UID:7921-1771147800-1771174800@sedlitzer-bergfreunde.de
SUMMARY:Familienwanderung
DESCRIPTION:Wir treffen uns\, wegen der Wetterlage und aus gesundheitlichen Gründen zu einer kleineren Tour am Parkplatz des zukünftigen Sedlitzer Hafens. Auf der ca. 2-stündigen Runde vorbei am Sedlitzer- und Großräschener See schauen wir uns die zukünftigen Strände des 2 -Seen-Ortes an. Es gibt auch Informationen über die geplanten oder schon im Bau befindlichen Projekte der zukünftigen Infrastruktur für Gäste des Seenlandes. Festes Schuhwerk wird benötigt. Vielleicht benötigen wir ja sogar unsere Schlitten.
URL:https://sedlitzer-bergfreunde.de/event/familienwanderung/
CATEGORIES:Familiengruppe,Kinder & Jugend
ATTACH;FMTTYPE=image/jpeg:https://sedlitzer-bergfreunde.de/wp-content/uploads/2024/12/Kopie-von-Einladung-Mitgliederversammlung-Praesentation.zip-2.jpeg
ORGANIZER;CN="Enrico Peschk":MAILTO:jugend@sedlitzer-bergfreunde.de
END:VEVENT
END:VCALENDAR