BEGIN:VCALENDAR
VERSION:2.0
PRODID:-//Sedlitzer Bergfreunde e.V. - ECPv6.15.20//NONSGML v1.0//EN
CALSCALE:GREGORIAN
METHOD:PUBLISH
X-WR-CALNAME:Sedlitzer Bergfreunde e.V.
X-ORIGINAL-URL:https://sedlitzer-bergfreunde.de
X-WR-CALDESC:Veranstaltungen für Sedlitzer Bergfreunde e.V.
REFRESH-INTERVAL;VALUE=DURATION:PT1H
X-Robots-Tag:noindex
X-PUBLISHED-TTL:PT1H
BEGIN:VTIMEZONE
TZID:Europe/Berlin
BEGIN:DAYLIGHT
TZOFFSETFROM:+0100
TZOFFSETTO:+0200
TZNAME:CEST
DTSTART:20250330T010000
END:DAYLIGHT
BEGIN:STANDARD
TZOFFSETFROM:+0200
TZOFFSETTO:+0100
TZNAME:CET
DTSTART:20251026T010000
END:STANDARD
BEGIN:DAYLIGHT
TZOFFSETFROM:+0100
TZOFFSETTO:+0200
TZNAME:CEST
DTSTART:20260329T010000
END:DAYLIGHT
BEGIN:STANDARD
TZOFFSETFROM:+0200
TZOFFSETTO:+0100
TZNAME:CET
DTSTART:20261025T010000
END:STANDARD
BEGIN:DAYLIGHT
TZOFFSETFROM:+0100
TZOFFSETTO:+0200
TZNAME:CEST
DTSTART:20270328T010000
END:DAYLIGHT
BEGIN:STANDARD
TZOFFSETFROM:+0200
TZOFFSETTO:+0100
TZNAME:CET
DTSTART:20271031T010000
END:STANDARD
END:VTIMEZONE
BEGIN:VEVENT
DTSTART;TZID=Europe/Berlin:20260208T100000
DTEND;TZID=Europe/Berlin:20260208T170000
DTSTAMP:20260423T133142
CREATED:20260130T195233Z
LAST-MODIFIED:20260130T200140Z
UID:7925-1770544800-1770570000@sedlitzer-bergfreunde.de
SUMMARY:Klettertreff für Mitglieder und Interessierte
DESCRIPTION:Klettertreff für alle Vereinsmitglieder und Familie\, Freunde. Egal\, ob Anfänger oder Profi – alle sind herzlich willkommen. Wir treffen uns zum ersten Klettertreff des Jahres in der XXL-Kletterhalle in Dresden. Start ist 10 Uhr. Organisatorin und Ansprechpartnerin ist Diana. Mehr Informationen und Anmeldung via Spond.
URL:https://sedlitzer-bergfreunde.de/event/klettertreff-fuer-alle-mitglieder-und-interessierten/
LOCATION:XXL Kletterhalle Dresden\, Breitscheidstrasse 40\, Dresden
CATEGORIES:Verein
ATTACH;FMTTYPE=image/jpeg:https://sedlitzer-bergfreunde.de/wp-content/uploads/2024/12/Kopie-von-Einladung-Mitgliederversammlung-Praesentation.zip-4.jpeg
END:VEVENT
END:VCALENDAR