BEGIN:VCALENDAR
VERSION:2.0
PRODID:-//Sedlitzer Bergfreunde e.V. - ECPv6.15.20//NONSGML v1.0//EN
CALSCALE:GREGORIAN
METHOD:PUBLISH
X-ORIGINAL-URL:https://sedlitzer-bergfreunde.de
X-WR-CALDESC:Veranstaltungen für Sedlitzer Bergfreunde e.V.
REFRESH-INTERVAL;VALUE=DURATION:PT1H
X-Robots-Tag:noindex
X-PUBLISHED-TTL:PT1H
BEGIN:VTIMEZONE
TZID:Europe/Berlin
BEGIN:DAYLIGHT
TZOFFSETFROM:+0100
TZOFFSETTO:+0200
TZNAME:CEST
DTSTART:20250330T010000
END:DAYLIGHT
BEGIN:STANDARD
TZOFFSETFROM:+0200
TZOFFSETTO:+0100
TZNAME:CET
DTSTART:20251026T010000
END:STANDARD
BEGIN:DAYLIGHT
TZOFFSETFROM:+0100
TZOFFSETTO:+0200
TZNAME:CEST
DTSTART:20260329T010000
END:DAYLIGHT
BEGIN:STANDARD
TZOFFSETFROM:+0200
TZOFFSETTO:+0100
TZNAME:CET
DTSTART:20261025T010000
END:STANDARD
BEGIN:DAYLIGHT
TZOFFSETFROM:+0100
TZOFFSETTO:+0200
TZNAME:CEST
DTSTART:20270328T010000
END:DAYLIGHT
BEGIN:STANDARD
TZOFFSETFROM:+0200
TZOFFSETTO:+0100
TZNAME:CET
DTSTART:20271031T010000
END:STANDARD
END:VTIMEZONE
BEGIN:VEVENT
DTSTART;TZID=Europe/Berlin:20260116T040000
DTEND;TZID=Europe/Berlin:20260119T220000
DTSTAMP:20260422T021946
CREATED:20250717T171222Z
LAST-MODIFIED:20250808T180429Z
UID:5967-1768536000-1768860000@sedlitzer-bergfreunde.de
SUMMARY:Ski-Alpin Ausbildungs-Ausfahrt auf dem Stubaier Gletscher (Österreich)
DESCRIPTION:Österreichs größtes Gletscherskigebiet – Stubaier Gletscher \nWinter-Skisaison am Gletscher\nSchneesicherheit von Oktober bis Mai – das ist Winter am Stubaier Gletscher. \nDas Bergpanorama\, die breiten Pisten\, die Familienfreundlichkeit\, das vielfältige Pistenangebot – eine unvergessliche Skisaison ist garantiert. \nPistenvergnügen für Groß & Klein\nDas erwartet dich bei deinem Besuch in Österreichs größtem Gletscher Skigebiet: \n🔸️Skifahren auf über 3.000 Meter Höhe mit Schneegarantie \n🔸️100% Skispaß auf 33 leichten bis anspruchsvollen Abfahrten \n🔸️26 moderne Seilbahn- und Liftanlagen & Skidepot \n🔸️zahlreiche Freeride-Möglichkeiten \n🔸️Snowpark Stubai Zoo \nPlätze sind streng limitiert! \nWir übernachten in der Zollhütte neben der Dresdner Hütte\, wo wir bestens mit Halbpension versorgt werden. \nWir schlafen direkt im Skigebiet an der Piste und können jeweils die ersten und letzten auf der Piste sein. \nOrganisation durch Philipp Liebscher (Ausbildungsreferent Sedlitzer Bergfreunde) 🐐 \nDiese Veranstaltung ist bereits ausgebucht (Stand 17.07.2025 – 14/14 Plätzen) …Wartelistenplätze weiterhin möglich! \n \n  \n 
URL:https://sedlitzer-bergfreunde.de/event/capra-ibex-ski-alpin-ausbildungs-ausfahrt-auf-dem-stubaier-gletscher-oesterreich/
LOCATION:Stubaier Gletscher Skigebiet Österreich\, Austria
CATEGORIES:Capra Ibex
ATTACH;FMTTYPE=image/webp:https://sedlitzer-bergfreunde.de/wp-content/uploads/2025/07/IMG_20230128_Stubaier-Gletscher-Capra-Ibex-Foto-Philipp-Liebscher.webp
ORGANIZER;CN="Philipp Liebscher":MAILTO:capra.ibex@sedlitzer-bergfreunde.de
END:VEVENT
END:VCALENDAR