BEGIN:VCALENDAR
VERSION:2.0
PRODID:-//Sedlitzer Bergfreunde e.V. - ECPv6.15.20//NONSGML v1.0//EN
CALSCALE:GREGORIAN
METHOD:PUBLISH
X-ORIGINAL-URL:https://sedlitzer-bergfreunde.de
X-WR-CALDESC:Veranstaltungen für Sedlitzer Bergfreunde e.V.
REFRESH-INTERVAL;VALUE=DURATION:PT1H
X-Robots-Tag:noindex
X-PUBLISHED-TTL:PT1H
BEGIN:VTIMEZONE
TZID:Europe/Berlin
BEGIN:DAYLIGHT
TZOFFSETFROM:+0100
TZOFFSETTO:+0200
TZNAME:CEST
DTSTART:20250330T010000
END:DAYLIGHT
BEGIN:STANDARD
TZOFFSETFROM:+0200
TZOFFSETTO:+0100
TZNAME:CET
DTSTART:20251026T010000
END:STANDARD
BEGIN:DAYLIGHT
TZOFFSETFROM:+0100
TZOFFSETTO:+0200
TZNAME:CEST
DTSTART:20260329T010000
END:DAYLIGHT
BEGIN:STANDARD
TZOFFSETFROM:+0200
TZOFFSETTO:+0100
TZNAME:CET
DTSTART:20261025T010000
END:STANDARD
BEGIN:DAYLIGHT
TZOFFSETFROM:+0100
TZOFFSETTO:+0200
TZNAME:CEST
DTSTART:20270328T010000
END:DAYLIGHT
BEGIN:STANDARD
TZOFFSETFROM:+0200
TZOFFSETTO:+0100
TZNAME:CET
DTSTART:20271031T010000
END:STANDARD
END:VTIMEZONE
BEGIN:VEVENT
DTSTART;TZID=Europe/Berlin:20260115T183000
DTEND;TZID=Europe/Berlin:20260115T210000
DTSTAMP:20260422T003619
CREATED:20251230T212338Z
LAST-MODIFIED:20251230T212338Z
UID:7670-1768501800-1768510800@sedlitzer-bergfreunde.de
SUMMARY:öffentlicher Sektionsabend: Marokko - Ein Königreich zwischen Meer und Wüste
DESCRIPTION:Wir laden euch ein zu einer abenteuerlichen Bildungsreise! \nIm Jahr 2022 reiste Christine Bischoff zwei Wochen lang durch Marokko – ein Land voller Gegensätze zwischen lebhaften Souks und stillen Wüsten\, zwischen Strand und Hochgebirge\, Tradition und Moderne. \nNach sieben Monaten intensiver Arbeit präsentiert sie ihren zweiteiligen Film (Gesamtdauer: 150 Minuten) über diese faszinierende Reise. \nBegleitet wird der Vortrag von einer Ausstellung mit Bildern und landestypischen Mitbringseln. \nErlebt das Königreich mit seinen vier Königsstädten – Fès\, Marrakesch\, Meknès und Rabat – den mächtigen Hohen Atlas und die unvergleichliche Atmosphäre eines Landes\, das Afrika und Europa verbindet. Ein Rausch für die Sinne – spannend\, lehrreich und voller Eindrücke! \nDonnerstag\, 15. Januar 2026 \n18.30 Uhr \nRegenbogen-Grundschule Senftenberg \nJohannes-R. -Becher-Straße 19 \nEintritt frei\, Spenden sind willkommen. \n  \n \n20260115_VortragMarokko_Plakat
URL:https://sedlitzer-bergfreunde.de/event/oeffentlicher-sektionsabend-marokko-ein-koenigreich-zwischen-meer-und-wueste/
LOCATION:Regenbogen-Grundschule Senftenberg\, Johannes-R.-Becher-Str. 19\, Senftenberg\, 01968\, Germany
CATEGORIES:Sektionsabend
ATTACH;FMTTYPE=image/jpeg:https://sedlitzer-bergfreunde.de/wp-content/uploads/2024/12/Kopie-von-Einladung-Mitgliederversammlung-Praesentation.zip-3.jpeg
END:VEVENT
END:VCALENDAR