BEGIN:VCALENDAR
VERSION:2.0
PRODID:-//Sedlitzer Bergfreunde e.V. - ECPv6.15.20//NONSGML v1.0//EN
CALSCALE:GREGORIAN
METHOD:PUBLISH
X-ORIGINAL-URL:https://sedlitzer-bergfreunde.de
X-WR-CALDESC:Veranstaltungen für Sedlitzer Bergfreunde e.V.
REFRESH-INTERVAL;VALUE=DURATION:PT1H
X-Robots-Tag:noindex
X-PUBLISHED-TTL:PT1H
BEGIN:VTIMEZONE
TZID:Europe/Berlin
BEGIN:DAYLIGHT
TZOFFSETFROM:+0100
TZOFFSETTO:+0200
TZNAME:CEST
DTSTART:20240331T010000
END:DAYLIGHT
BEGIN:STANDARD
TZOFFSETFROM:+0200
TZOFFSETTO:+0100
TZNAME:CET
DTSTART:20241027T010000
END:STANDARD
BEGIN:DAYLIGHT
TZOFFSETFROM:+0100
TZOFFSETTO:+0200
TZNAME:CEST
DTSTART:20250330T010000
END:DAYLIGHT
BEGIN:STANDARD
TZOFFSETFROM:+0200
TZOFFSETTO:+0100
TZNAME:CET
DTSTART:20251026T010000
END:STANDARD
BEGIN:DAYLIGHT
TZOFFSETFROM:+0100
TZOFFSETTO:+0200
TZNAME:CEST
DTSTART:20260329T010000
END:DAYLIGHT
BEGIN:STANDARD
TZOFFSETFROM:+0200
TZOFFSETTO:+0100
TZNAME:CET
DTSTART:20261025T010000
END:STANDARD
END:VTIMEZONE
BEGIN:VEVENT
DTSTART;VALUE=DATE:20251130
DTEND;VALUE=DATE:20251201
DTSTAMP:20260422T004638
CREATED:20251027T214358Z
LAST-MODIFIED:20251027T214358Z
UID:6917-1764460800-1764547199@sedlitzer-bergfreunde.de
SUMMARY:Wanderung der Wandergruppe "immer wieder Sonntags"
DESCRIPTION:Die Wandergruppe “immer wieder Sonntags” plant für den 30.11.2025 ihre nächste Wanderung. Wer Interesse an den Wanderungen hat\, sollte sich über Spond anmelden\, um so keine Informationen zu verpassen.
URL:https://sedlitzer-bergfreunde.de/event/wanderung-der-wandergruppe-immer-wieder-sonntags/
END:VEVENT
BEGIN:VEVENT
DTSTART;TZID=Europe/Berlin:20251130T090000
DTEND;TZID=Europe/Berlin:20251130T090000
DTSTAMP:20260422T004638
CREATED:20250522T214815Z
LAST-MODIFIED:20251027T224134Z
UID:5380-1764493200-1764493200@sedlitzer-bergfreunde.de
SUMMARY:Adventsklettern
DESCRIPTION:Für alle interessierten Mitglieder. Wir treffen uns dieses Mal in der XXL-Sport-Kletterhalle in Dresden. Start ist um 9 Uhr. Bringt gern eure Weihnachtsmützen mit. Wir freuen uns auf euch! 🙂
URL:https://sedlitzer-bergfreunde.de/event/adventsklettern/
LOCATION:XXL Kletterhalle Dresden\, Breitscheidstrasse 40\, Dresden
CATEGORIES:Verein
ATTACH;FMTTYPE=image/jpeg:https://sedlitzer-bergfreunde.de/wp-content/uploads/2024/12/Kopie-von-Einladung-Mitgliederversammlung-Praesentation.zip-4.jpeg
END:VEVENT
BEGIN:VEVENT
DTSTART;TZID=Europe/Berlin:20251130T090000
DTEND;TZID=Europe/Berlin:20251130T160000
DTSTAMP:20260422T004638
CREATED:20251027T225040Z
LAST-MODIFIED:20251120T224629Z
UID:6969-1764493200-1764518400@sedlitzer-bergfreunde.de
SUMMARY:Wanderung der Wandergruppe "Immer wieder Sonntags"
DESCRIPTION:Die Wandergruppe “immer wieder Sonntags” plant für den 30.11.2025 ihre nächste Wanderung. Uschi hat eine rund 20 km lange Tour ausgewählt. Start ist in Dissen; die Runde führt über Skadow\, entlang der Spree durch die neugestaltete Spreeaue zurück nach Dissen. Start ist um 09.00 Uhr in Dissen-Striesow\, Parkplatz gegenüber der Gaststätte Storchenblick.\nAnsprechpartnerin ist Uschi Krenkel (+49 1515 7840058) oder Michael Götze (+49 1522 8613204\nLink: https://www.komoot.com/de-de/tour/2678585545?ref=aso&share_token=aRziW7LGt8YeMK3zc2Jzwx2QpjYnGS4tN0moGF4F8bPLZ9xnbY\nWer Interesse an den Wanderungen hat\, sollte sich über Spond anmelden\, um so keine Informationen zu verpassen.
URL:https://sedlitzer-bergfreunde.de/event/wanderung-der-wandergruppe-immer-wieder-sonntags-2/
CATEGORIES:Wandergruppe „immer wieder sonntags“
ATTACH;FMTTYPE=image/png:https://sedlitzer-bergfreunde.de/wp-content/uploads/2025/01/20250117_214206000_iOS.png
END:VEVENT
END:VCALENDAR