BEGIN:VCALENDAR
VERSION:2.0
PRODID:-//Sedlitzer Bergfreunde e.V. - ECPv6.15.20//NONSGML v1.0//EN
CALSCALE:GREGORIAN
METHOD:PUBLISH
X-WR-CALNAME:Sedlitzer Bergfreunde e.V.
X-ORIGINAL-URL:https://sedlitzer-bergfreunde.de
X-WR-CALDESC:Veranstaltungen für Sedlitzer Bergfreunde e.V.
REFRESH-INTERVAL;VALUE=DURATION:PT1H
X-Robots-Tag:noindex
X-PUBLISHED-TTL:PT1H
BEGIN:VTIMEZONE
TZID:Europe/Berlin
BEGIN:DAYLIGHT
TZOFFSETFROM:+0100
TZOFFSETTO:+0200
TZNAME:CEST
DTSTART:20240331T010000
END:DAYLIGHT
BEGIN:STANDARD
TZOFFSETFROM:+0200
TZOFFSETTO:+0100
TZNAME:CET
DTSTART:20241027T010000
END:STANDARD
BEGIN:DAYLIGHT
TZOFFSETFROM:+0100
TZOFFSETTO:+0200
TZNAME:CEST
DTSTART:20250330T010000
END:DAYLIGHT
BEGIN:STANDARD
TZOFFSETFROM:+0200
TZOFFSETTO:+0100
TZNAME:CET
DTSTART:20251026T010000
END:STANDARD
BEGIN:DAYLIGHT
TZOFFSETFROM:+0100
TZOFFSETTO:+0200
TZNAME:CEST
DTSTART:20260329T010000
END:DAYLIGHT
BEGIN:STANDARD
TZOFFSETFROM:+0200
TZOFFSETTO:+0100
TZNAME:CET
DTSTART:20261025T010000
END:STANDARD
END:VTIMEZONE
BEGIN:VEVENT
DTSTART;TZID=Europe/Berlin:20251128T160000
DTEND;TZID=Europe/Berlin:20251128T220000
DTSTAMP:20260421T222850
CREATED:20250522T213401Z
LAST-MODIFIED:20251020T211215Z
UID:5358-1764345600-1764367200@sedlitzer-bergfreunde.de
SUMMARY:Weihnachtsfeier 2025 für Vereinsmitglieder
DESCRIPTION:Liebe Vereinsmitglieder\, liebe Familien und Freunde\, \ndas Jahr neigt sich dem Ende zu – und wir möchten es gern wieder gemeinsam mit euch in gemütlicher Runde ausklingen lassen! Dazu laden wir euch herzlich ein zu unserer Weihnachtsfeier am Freitag\, den 28.11.\, in der  Begegnungsstätte Lausitzer Seenland in Senftenberg\, Komoranstraße 1. \nIm großen Garten und den festlich geschmückten Räumen wollen wir gemeinsam Zeit verbringen\,singen\, lachen und das Jahr Revue passieren lassen. \n16 Uhr starten wir mit einem Programm für Kinder\, Jugendliche und Familien. Als besonderes Highlight für unsere Kinder und Jugendlichen nimmt uns um 16:30 Uhr Märchenerzählerin Frau Fisch mit auf eine spannende Reise in die Welt der Märchen. \nUm 17.30 Uhr startet dann die Feier für alle Mitglieder mit der Eröffnung durch den Vorstand. \nBringt gern wieder eure Lieblingsbilder mit – wir werden sie vor Ort ausstellen und uns gemeinsam an viele schöne Momente erinnern. \nWer noch auf der Suche nach kleinen Aufmerksamkeiten für Weihnachten ist\, sollte außerdem seine Geldbörse einpacken – unsere Kinder und Jugendlichen basteln auch in diesem Jahr fleißig und verkaufen die Ergebnisse im Rahmen der Weihnachtsfeier. Außerdem erwartet euch ein kleiner Basar mit schöner handgebastelter Weihnachts-Deko und anderen Dingen\, die Freude bereiten. Erneut können wir uns auch auf eine Bilder-Ausstellung von Hans-Günter Freidank mit Versteigerung freuen. \nFür die Teilnahme an der Feier wird vor Ort ein kleiner Obolus fällig:\nEintritt:  Kinder 0-6 Jahre: frei;  Kinder (ab 6 Jahren): 5 € \, Erwachsene (ab 18 Jahren): 10 € \nAnmeldung bitte bis spätestens 14. November an jugend@sedlitzer-bergfreunde.de unter Angabe von Name\, Anzahl Teilnehmende (x Erwachsene ab 18; x Kinder ab 6; x Kinder unter 6) und Kontakt\, oder via Spond. Ihr könnt euch auch über das Kontaktformular anmelden.  \n\nGern erweitern wir unser Essensangebot mit euren freiwilligen kulinarischen Speisen. Diese sollten für den besseren Überblick angemeldet werden. Wer sich kulinarisch einbringen möchte – sei es mit etwas Selbstgekochtem oder Gebackenem  (Kuchen\, Weihnachtsgebäck)– kann sich gern beim Orgateam Ricarda und Sylvia melden unter:  jugend@sedlitzer-bergfreunde.de \n\nMitglieder\, die uns mit einem kleinen weihnachtlichen Programmpunkt unterstützen möchten\, können sich ebenso gern melden. \nWir freuen uns auf eine wundervolle\, stimmungsvolle Feier mit euch. \nHerzliche Grüße\, \nEuer Orgateam der Sedlitzer Bergfreunde
URL:https://sedlitzer-bergfreunde.de/event/weihnachtsfeier-2025-fuer-vereinsmitglieder/
LOCATION:Begegnungsstätte Lausitzer Seenland\, Komoranstraße 1\, Senftenberg
CATEGORIES:Verein
ATTACH;FMTTYPE=image/png:https://sedlitzer-bergfreunde.de/wp-content/uploads/2025/10/Einladung-zur-Weihnachtsfeier.png
END:VEVENT
END:VCALENDAR