BEGIN:VCALENDAR
VERSION:2.0
PRODID:-//Sedlitzer Bergfreunde e.V. - ECPv6.15.20//NONSGML v1.0//EN
CALSCALE:GREGORIAN
METHOD:PUBLISH
X-ORIGINAL-URL:https://sedlitzer-bergfreunde.de
X-WR-CALDESC:Veranstaltungen für Sedlitzer Bergfreunde e.V.
REFRESH-INTERVAL;VALUE=DURATION:PT1H
X-Robots-Tag:noindex
X-PUBLISHED-TTL:PT1H
BEGIN:VTIMEZONE
TZID:Europe/Berlin
BEGIN:DAYLIGHT
TZOFFSETFROM:+0100
TZOFFSETTO:+0200
TZNAME:CEST
DTSTART:20240331T010000
END:DAYLIGHT
BEGIN:STANDARD
TZOFFSETFROM:+0200
TZOFFSETTO:+0100
TZNAME:CET
DTSTART:20241027T010000
END:STANDARD
BEGIN:DAYLIGHT
TZOFFSETFROM:+0100
TZOFFSETTO:+0200
TZNAME:CEST
DTSTART:20250330T010000
END:DAYLIGHT
BEGIN:STANDARD
TZOFFSETFROM:+0200
TZOFFSETTO:+0100
TZNAME:CET
DTSTART:20251026T010000
END:STANDARD
BEGIN:DAYLIGHT
TZOFFSETFROM:+0100
TZOFFSETTO:+0200
TZNAME:CEST
DTSTART:20260329T010000
END:DAYLIGHT
BEGIN:STANDARD
TZOFFSETFROM:+0200
TZOFFSETTO:+0100
TZNAME:CET
DTSTART:20261025T010000
END:STANDARD
END:VTIMEZONE
BEGIN:VEVENT
DTSTART;VALUE=DATE:20251121
DTEND;VALUE=DATE:20251123
DTSTAMP:20260421T222239
CREATED:20250522T215646Z
LAST-MODIFIED:20251030T205438Z
UID:5393-1763683200-1763855999@sedlitzer-bergfreunde.de
SUMMARY:Hütteneinsatz an der Sedlitzer Hütte
DESCRIPTION:Der Herbst steht auf der Leiter und macht nicht nur die Blätter bunt\, sondern lässt sie auch fallen. Das Hüttengrundstück muss also wieder auf Vordermann gebracht werden. Dazu viele kleinere Arbeiten in und um die Vereinshütte. Der Hüttenwart freut sich über eine rege Teilnahme.
URL:https://sedlitzer-bergfreunde.de/event/huetteneinsatz-an-der-sedliter-huette/
CATEGORIES:Arbeitseinsatz,Verein
ATTACH;FMTTYPE=image/jpeg:https://sedlitzer-bergfreunde.de/wp-content/uploads/2025/02/20250119_104752780_iOS1-scaled-e1740344372537.jpg
END:VEVENT
BEGIN:VEVENT
DTSTART;TZID=Europe/Berlin:20251121T160000
DTEND;TZID=Europe/Berlin:20251123T180000
DTSTAMP:20260421T222239
CREATED:20250701T164212Z
LAST-MODIFIED:20250701T164212Z
UID:5816-1763740800-1763920800@sedlitzer-bergfreunde.de
SUMMARY:Capra Ibex erobert Geising: Hüttenzauber im November!
DESCRIPTION:Es ist offiziell: Nach zähem Ringen\, diplomatischem Geschick und scheinbar endlosen Verhandlungen mit den legendären Hüttenwartsleuten aus Sedlitz\, haben wir es geschafft! Die Sport- & Skihütte Geising ist vom 21. bis 23. November 2025 wieder fest in Steinbock-Hand (und Steingeis-Hufe\, versteht sich!). \nWas uns in Geising erwartet (oder auch nicht – das Wetter entscheidet!) \nLangeweile? Nicht mit Capra Ibex! Je nachdem\, ob uns Frau Holle mit Puderzucker oder Sonnenschein beehrt\, haben wir ein Programm\, das selbst einen Steinbock ins Schwitzen bringt: \n* Sportklettern im Südlichen Müglitztal: Lasst eure Finger glühen und eure Muskeln spielen\, wenn wir die Felsen bezwingen. Wer braucht schon Netflix\, wenn man Felskontakt haben kann? \n* Wandern im Sächsischen Hochgebirge: Schnürt die Wanderstiefel und lasst uns die atemberaubende Landschaft erkunden. Achtung: Es besteht akute Gefahr von Naturschönheit und frischer Luft! \n* Skifahren (Langlauf & Alpin): Falls uns das Wetter gnädig ist\, packen wir die Bretter aus! Ob elegant auf Langlaufskiern oder rasant alpin – Hauptsache\, wir kommen heil unten an (oder zumindest mit einer guten Geschichte für den Abend). \n* Exkursion zum Milešovka (Milleschauer) im Böhmischen Becken: Wenn alle Sterne günstig stehen\, wagen wir den Sprung über die Grenze! Der Milešovka\, auch liebevoll “Königin des Mittelgebirges” genannt\, wartet darauf\, von uns bezwungen zu werden. Wer weiß\, vielleicht treffen wir ja seine königliche Hoheit persönlich! \nMehr als nur Berge: Kulinarische Höhepunkte & legendäre Spieleabende \nNachdem wir uns tagsüber heldenhaft durch die Natur geschlagen haben\, verwandelt sich die Hütte in unser gemütliches Basislager. Wir werden gemeinsam kochen\, lachen und bei unseren mittlerweile legendären Spieleabenden in hitzigen (aber freundschaftlichen!) Wettkämpfen versinken. Dazu gibt’s tolle Gespräche\, bei denen sich Bergsport-Anekdoten mit den neuesten Witzen die Waage halten. \nIch freue mich schon riesig auf eure zahlreiche Teilnahme und ein unvergessliches Wochenende mit den besten Steinböcken und Steingeißen weit und breit! \nEuer Oberbock Philipp
URL:https://sedlitzer-bergfreunde.de/event/capra-ibex-erobert-geising-huettenzauber-im-november/
LOCATION:Sport- & Skihütte Geising\, Altenberger Str. 5\, Geising\, Sachsen\, 01778
CATEGORIES:Capra Ibex
ATTACH;FMTTYPE=image/png:https://sedlitzer-bergfreunde.de/wp-content/uploads/2025/07/Capra-Ibex-erobert-Geising-Foto-Philipp-Liebscher-AI.png
ORGANIZER;CN="Philipp Liebscher":MAILTO:capra.ibex@sedlitzer-bergfreunde.de
END:VEVENT
END:VCALENDAR