BEGIN:VCALENDAR
VERSION:2.0
PRODID:-//Sedlitzer Bergfreunde e.V. - ECPv6.15.20//NONSGML v1.0//EN
CALSCALE:GREGORIAN
METHOD:PUBLISH
X-ORIGINAL-URL:https://sedlitzer-bergfreunde.de
X-WR-CALDESC:Veranstaltungen für Sedlitzer Bergfreunde e.V.
REFRESH-INTERVAL;VALUE=DURATION:PT1H
X-Robots-Tag:noindex
X-PUBLISHED-TTL:PT1H
BEGIN:VTIMEZONE
TZID:Europe/Berlin
BEGIN:DAYLIGHT
TZOFFSETFROM:+0100
TZOFFSETTO:+0200
TZNAME:CEST
DTSTART:20240331T010000
END:DAYLIGHT
BEGIN:STANDARD
TZOFFSETFROM:+0200
TZOFFSETTO:+0100
TZNAME:CET
DTSTART:20241027T010000
END:STANDARD
BEGIN:DAYLIGHT
TZOFFSETFROM:+0100
TZOFFSETTO:+0200
TZNAME:CEST
DTSTART:20250330T010000
END:DAYLIGHT
BEGIN:STANDARD
TZOFFSETFROM:+0200
TZOFFSETTO:+0100
TZNAME:CET
DTSTART:20251026T010000
END:STANDARD
BEGIN:DAYLIGHT
TZOFFSETFROM:+0100
TZOFFSETTO:+0200
TZNAME:CEST
DTSTART:20260329T010000
END:DAYLIGHT
BEGIN:STANDARD
TZOFFSETFROM:+0200
TZOFFSETTO:+0100
TZNAME:CET
DTSTART:20261025T010000
END:STANDARD
END:VTIMEZONE
BEGIN:VEVENT
DTSTART;TZID=Europe/Berlin:20251120T190000
DTEND;TZID=Europe/Berlin:20251120T210000
DTSTAMP:20260422T020148
CREATED:20251016T202652Z
LAST-MODIFIED:20251027T215903Z
UID:6650-1763665200-1763672400@sedlitzer-bergfreunde.de
SUMMARY:öffentlicher Sektionsabend: Unterwegs auf dem mittelalterlichen Jakobsweg Berlin - Bad Wilsnack -Tangermünde
DESCRIPTION:“Wenn die Seele Füsse bekommt…” \nReisen bildet\, und pilgern sowieso. Aber muss man dazu bis Spanien oder Frankreich reisen? Unterwegs auf dem mittelalterlichen Jakobsweg Berlin – Bad Wilsnack -Tangermünde kommt man ein Stück näher an die (innere) Freiheit.\nSpannende Impressionen\, motivierende Erfahrungen und inspirierende Texte vom Pilgern durch die Brandenburger Prignitz während der C-Zeit im September 2021 und im winterlichen Dezember 2023.\nPilgerbericht von und mit Anke Pätzold. \nDer Weg ist das _Plakat
URL:https://sedlitzer-bergfreunde.de/event/oeffentlicher-sektionsabend-unterwegs-auf-dem-mittelalterlichen-jakobsweg-berlin-bad-wilsnack-tangermuende/
LOCATION:Adventkapelle Senftenberg\, Ernst-Thälmann-Str. 66a\, Senftenberg\, 01968
CATEGORIES:Sektionsabend
ATTACH;FMTTYPE=image/jpeg:https://sedlitzer-bergfreunde.de/wp-content/uploads/2024/12/Kopie-von-Einladung-Mitgliederversammlung-Praesentation.zip-3.jpeg
END:VEVENT
END:VCALENDAR