BEGIN:VCALENDAR
VERSION:2.0
PRODID:-//Sedlitzer Bergfreunde e.V. - ECPv6.15.20//NONSGML v1.0//EN
CALSCALE:GREGORIAN
METHOD:PUBLISH
X-ORIGINAL-URL:https://sedlitzer-bergfreunde.de
X-WR-CALDESC:Veranstaltungen für Sedlitzer Bergfreunde e.V.
REFRESH-INTERVAL;VALUE=DURATION:PT1H
X-Robots-Tag:noindex
X-PUBLISHED-TTL:PT1H
BEGIN:VTIMEZONE
TZID:Europe/Berlin
BEGIN:DAYLIGHT
TZOFFSETFROM:+0100
TZOFFSETTO:+0200
TZNAME:CEST
DTSTART:20240331T010000
END:DAYLIGHT
BEGIN:STANDARD
TZOFFSETFROM:+0200
TZOFFSETTO:+0100
TZNAME:CET
DTSTART:20241027T010000
END:STANDARD
BEGIN:DAYLIGHT
TZOFFSETFROM:+0100
TZOFFSETTO:+0200
TZNAME:CEST
DTSTART:20250330T010000
END:DAYLIGHT
BEGIN:STANDARD
TZOFFSETFROM:+0200
TZOFFSETTO:+0100
TZNAME:CET
DTSTART:20251026T010000
END:STANDARD
BEGIN:DAYLIGHT
TZOFFSETFROM:+0100
TZOFFSETTO:+0200
TZNAME:CEST
DTSTART:20260329T010000
END:DAYLIGHT
BEGIN:STANDARD
TZOFFSETFROM:+0200
TZOFFSETTO:+0100
TZNAME:CET
DTSTART:20261025T010000
END:STANDARD
END:VTIMEZONE
BEGIN:VEVENT
DTSTART;TZID=Europe/Berlin:20251115T100000
DTEND;TZID=Europe/Berlin:20251115T140000
DTSTAMP:20260421T222239
CREATED:20250522T215909Z
LAST-MODIFIED:20251030T194810Z
UID:5396-1763200800-1763215200@sedlitzer-bergfreunde.de
SUMMARY:Weihnachtsbasteln für unsere Weihnachtsfeier
DESCRIPTION:Egal ob Jung oder Jung geblieben – wir wollen gemeinsam mit den Kids und Jugendlichen basteln und die JDAV Kasse zur Weihnachtsfeier füllen. \nWenn vorhanden bitte mitbringen:\n– Schere\n– Klebestift (Pritt\, Uhu\, …)\n– Zeitungspapier\n– Edding dünn schwarz & weiß\n– Washi Tape (einfarbig bunt oder mit weihnachtlichen/winterlichen Motiven) \nWer nicht gern bastelt\, darf gern wieder verschiedene Kekse und Plätzchen vorbei bringen\, welche wir an diesem Tag hübsch verpacken wollen. Sie werden dann ebenfalls zur Weihnachtsfeier zum Verkauf angeboten. \nKleingeld nicht vergessen. Wir können bei Ramona Getränke/Essen bestellen. \nWir freuen uns auf eine schöne Zeit.
URL:https://sedlitzer-bergfreunde.de/event/weihnachtsbasteln-fuer-unsere-weihnachtsfeier/
CATEGORIES:Kinder & Jugend,Verein
ATTACH;FMTTYPE=image/jpeg:https://sedlitzer-bergfreunde.de/wp-content/uploads/2024/12/f36d6c2c-2ea3-4248-bff4-8b513ded4382.jpeg
END:VEVENT
END:VCALENDAR