BEGIN:VCALENDAR
VERSION:2.0
PRODID:-//Sedlitzer Bergfreunde e.V. - ECPv6.15.20//NONSGML v1.0//EN
CALSCALE:GREGORIAN
METHOD:PUBLISH
X-WR-CALNAME:Sedlitzer Bergfreunde e.V.
X-ORIGINAL-URL:https://sedlitzer-bergfreunde.de
X-WR-CALDESC:Veranstaltungen für Sedlitzer Bergfreunde e.V.
REFRESH-INTERVAL;VALUE=DURATION:PT1H
X-Robots-Tag:noindex
X-PUBLISHED-TTL:PT1H
BEGIN:VTIMEZONE
TZID:Europe/Berlin
BEGIN:DAYLIGHT
TZOFFSETFROM:+0100
TZOFFSETTO:+0200
TZNAME:CEST
DTSTART:20240331T010000
END:DAYLIGHT
BEGIN:STANDARD
TZOFFSETFROM:+0200
TZOFFSETTO:+0100
TZNAME:CET
DTSTART:20241027T010000
END:STANDARD
BEGIN:DAYLIGHT
TZOFFSETFROM:+0100
TZOFFSETTO:+0200
TZNAME:CEST
DTSTART:20250330T010000
END:DAYLIGHT
BEGIN:STANDARD
TZOFFSETFROM:+0200
TZOFFSETTO:+0100
TZNAME:CET
DTSTART:20251026T010000
END:STANDARD
BEGIN:DAYLIGHT
TZOFFSETFROM:+0100
TZOFFSETTO:+0200
TZNAME:CEST
DTSTART:20260329T010000
END:DAYLIGHT
BEGIN:STANDARD
TZOFFSETFROM:+0200
TZOFFSETTO:+0100
TZNAME:CET
DTSTART:20261025T010000
END:STANDARD
END:VTIMEZONE
BEGIN:VEVENT
DTSTART;TZID=Europe/Berlin:20250926T153000
DTEND;TZID=Europe/Berlin:20250926T203000
DTSTAMP:20260421T191246
CREATED:20250918T100343Z
LAST-MODIFIED:20250918T100428Z
UID:6406-1758900600-1758918600@sedlitzer-bergfreunde.de
SUMMARY:Capra Ibex - Risskletterkurs beim Sächsischen Bergsteigerbund
DESCRIPTION:Rissklettertraining an allen im Vereinszentrum existierenden Rissbreiten in Theorie und Praxis.\nNicht für Kletter-Anfänger! \n(Wand-)Nachstieg bis Schwierigkeit ca. 6 oder mehr wird vorausgesetzt; sicherer Umgang mit dem Sicherungsgerät sowieso.\nMitzubringen: Gurt + Kletterschuhe (möglichst. hoch – mit Knöchelschutz) + Risshandschuhe. \nDie Ausleihe von Risshandschuhen ist im Kurspreis inbegriffen\, wenn keine eigenen vorhanden sind. \nDie Kursgebühr beinhaltet die Betreuung durch den Übungsleiter. Der Kletterhalleneintritt ist vor Ort zusätzlich zu entrichten. Dieser ist dann den ganzen Tag gültig\, ermöglicht also individuelles Klettern vor oder nach dem Kurs. \nBitte eine lange und robuste Hose\, ein langärmliges Oberteil und möglichst auch Socken einpacken! \n…Ebenso die Einverständniserklärung der Eltern. \n  \nAnmeldung und weitere Infos über unsere Mannschaftssportapp “Spond” in der Gruppe “Capra Ibex – Bergsportgruppe Alpine Zukunft. \nTeilnehmerzahl streng limitiert. Aktuell keine Anmeldung mehr möglich! \nAnsprechpartner: Andreas Freidank
URL:https://sedlitzer-bergfreunde.de/event/capra-ibex-risskletterkursc-beim-saechsischen-bergsteigerbund/
LOCATION:Kletterhalle & Vereinszentrum des Sächsischen Bergsteigerbundes (SBB)\, Papiermühlengasse 10\, Dresden\, Sachsen\, 01159\, Germany
CATEGORIES:Capra Ibex
ATTACH;FMTTYPE=image/jpeg:https://sedlitzer-bergfreunde.de/wp-content/uploads/2024/04/CapraIbex-e1731446307122.jpg
ORGANIZER;CN="Capra Ibex - Bergsportgruppe Alpine Zukunft":MAILTO:capra.ibex@sedlitzer-bergfreunde.de
END:VEVENT
END:VCALENDAR